BEGIN:VCALENDAR
VERSION:2.0
PRODID:-//Immigrant Services Society of BC (ISSofBC) - ECPv6.15.20//NONSGML v1.0//EN
CALSCALE:GREGORIAN
METHOD:PUBLISH
X-ORIGINAL-URL:https://issbc.org
X-WR-CALDESC:Events for Immigrant Services Society of BC (ISSofBC)
REFRESH-INTERVAL;VALUE=DURATION:PT1H
X-Robots-Tag:noindex
X-PUBLISHED-TTL:PT1H
BEGIN:VTIMEZONE
TZID:America/Vancouver
BEGIN:DAYLIGHT
TZOFFSETFROM:-0800
TZOFFSETTO:-0700
TZNAME:PDT
DTSTART:20240310T100000
END:DAYLIGHT
BEGIN:STANDARD
TZOFFSETFROM:-0700
TZOFFSETTO:-0800
TZNAME:PST
DTSTART:20241103T090000
END:STANDARD
BEGIN:DAYLIGHT
TZOFFSETFROM:-0800
TZOFFSETTO:-0700
TZNAME:PDT
DTSTART:20250309T100000
END:DAYLIGHT
BEGIN:STANDARD
TZOFFSETFROM:-0700
TZOFFSETTO:-0800
TZNAME:PST
DTSTART:20251102T090000
END:STANDARD
BEGIN:DAYLIGHT
TZOFFSETFROM:-0800
TZOFFSETTO:-0700
TZNAME:PDT
DTSTART:20260308T100000
END:DAYLIGHT
BEGIN:STANDARD
TZOFFSETFROM:-0700
TZOFFSETTO:-0800
TZNAME:PST
DTSTART:20261101T090000
END:STANDARD
END:VTIMEZONE
BEGIN:VEVENT
DTSTART;TZID=America/Vancouver:20250718T130000
DTEND;TZID=America/Vancouver:20250718T150000
DTSTAMP:20260424T002938
CREATED:20250616T173739Z
LAST-MODIFIED:20250616T173740Z
UID:10005699-1752843600-1752850800@issbc.org
SUMMARY:Employment Rights & Responsibilities Workshop - BC NSP & Safe Haven Program - Online
DESCRIPTION:Know your rights as a worker in BC! \n\nJoin our Employment Rights Workshop to learn about your rights and how to protect yourself at work. Knowing your rights helps you get fair treatment and avoid problems on the job. \n\nThis session will explain the important role of the BC Employment Standards Branch\, which enforces workplace laws in BC. You’ll learn about rules on wages\, hours\, overtime\, leaves\, and ending a job. We’ll also show you how to spot if your rights are being broken and how to get help by filing a complaint or finding support. \n\nIn this session\, you’ll learn how to: \n\nAccess resources and support for fair and safe employment \n\nUnderstand your basic employment rights under BC law \n\nLearn about wages\, hours of work\, overtime\, and breaks \n\nKnow your rights related to leaves\, holidays\, and termination \n\nDiscover how the Employment Standards Branch enforces workplace laws and helps resolve disputes \n\nFind out how to file a complaint if your rights are violated \n\nJoin us to understand your employment rights and how to stand up for yourself at work! \n\nWe’re here to support you in creating a fair and respectful workplace.
URL:https://issbc.org/event/employment-rights-responsibilities-workshop-bc-nsp-safe-haven-program-online-2/
CATEGORIES:Find Work
ATTACH;FMTTYPE=image/jpeg:https://issbc.org/wp-content/uploads/2025/06/Employment-Rights.jpg
END:VEVENT
END:VCALENDAR