BEGIN:VCALENDAR
VERSION:2.0
PRODID:-//Immigrant Services Society of BC (ISSofBC) - ECPv6.15.20//NONSGML v1.0//EN
CALSCALE:GREGORIAN
METHOD:PUBLISH
X-ORIGINAL-URL:https://issbc.org
X-WR-CALDESC:Events for Immigrant Services Society of BC (ISSofBC)
REFRESH-INTERVAL;VALUE=DURATION:PT1H
X-Robots-Tag:noindex
X-PUBLISHED-TTL:PT1H
BEGIN:VTIMEZONE
TZID:America/Vancouver
BEGIN:DAYLIGHT
TZOFFSETFROM:-0800
TZOFFSETTO:-0700
TZNAME:PDT
DTSTART:20240310T100000
END:DAYLIGHT
BEGIN:STANDARD
TZOFFSETFROM:-0700
TZOFFSETTO:-0800
TZNAME:PST
DTSTART:20241103T090000
END:STANDARD
BEGIN:DAYLIGHT
TZOFFSETFROM:-0800
TZOFFSETTO:-0700
TZNAME:PDT
DTSTART:20250309T100000
END:DAYLIGHT
BEGIN:STANDARD
TZOFFSETFROM:-0700
TZOFFSETTO:-0800
TZNAME:PST
DTSTART:20251102T090000
END:STANDARD
BEGIN:DAYLIGHT
TZOFFSETFROM:-0800
TZOFFSETTO:-0700
TZNAME:PDT
DTSTART:20260308T100000
END:DAYLIGHT
BEGIN:STANDARD
TZOFFSETFROM:-0700
TZOFFSETTO:-0800
TZNAME:PST
DTSTART:20261101T090000
END:STANDARD
END:VTIMEZONE
BEGIN:VEVENT
DTSTART;TZID=America/Vancouver:20250711T130000
DTEND;TZID=America/Vancouver:20250711T160000
DTSTAMP:20260422T150105
CREATED:20250707T231024Z
LAST-MODIFIED:20250708T202242Z
UID:10005778-1752238800-1752249600@issbc.org
SUMMARY:Big Way Hot Pot Job Fair - BC NSP & Safe Haven Program
DESCRIPTION:ISSofBC and Big Way Hot Pot have teamed up to present the Big Way Hotpot Career Fair – an exciting opportunity to explore employment in a dynamic food service environment.​ \n\nBig Way Hot Pot believes that employees are the most valuable assets\, and believes in an environment where everyone is trusted\, supported and proud to be apart of the team to realize a bigger team together!​ \n\nJoin us to learn more about:​ \n\n\n	100+ Job opportunities(front and back of house)​\n\n	Employee perks​\n\n	Career growth pathways​\n\n\nAnd more! \n\n\n\nWhere:​ \n\n2610 Victoria Dr. – 2nd Floor​Vancouver\, BC V5N 4L2​ \n\n\n\nContact teresa.wang@issbc.org for more information or support.
URL:https://issbc.org/event/big-way-hot-pot-job-fair-bc-nsp-safe-haven-program/
CATEGORIES:Find Work
ATTACH;FMTTYPE=image/jpeg:https://issbc.org/wp-content/uploads/2025/07/66d0ea79bbd89cc4cd617d8c_How-to-order-frame-at-0m5s-p-800.jpg
END:VEVENT
END:VCALENDAR