BEGIN:VCALENDAR
VERSION:2.0
PRODID:-//Immigrant Services Society of BC (ISSofBC) - ECPv6.15.20//NONSGML v1.0//EN
CALSCALE:GREGORIAN
METHOD:PUBLISH
X-ORIGINAL-URL:https://issbc.org
X-WR-CALDESC:Events for Immigrant Services Society of BC (ISSofBC)
REFRESH-INTERVAL;VALUE=DURATION:PT1H
X-Robots-Tag:noindex
X-PUBLISHED-TTL:PT1H
BEGIN:VTIMEZONE
TZID:America/Vancouver
BEGIN:DAYLIGHT
TZOFFSETFROM:-0800
TZOFFSETTO:-0700
TZNAME:PDT
DTSTART:20240310T100000
END:DAYLIGHT
BEGIN:STANDARD
TZOFFSETFROM:-0700
TZOFFSETTO:-0800
TZNAME:PST
DTSTART:20241103T090000
END:STANDARD
BEGIN:DAYLIGHT
TZOFFSETFROM:-0800
TZOFFSETTO:-0700
TZNAME:PDT
DTSTART:20250309T100000
END:DAYLIGHT
BEGIN:STANDARD
TZOFFSETFROM:-0700
TZOFFSETTO:-0800
TZNAME:PST
DTSTART:20251102T090000
END:STANDARD
BEGIN:DAYLIGHT
TZOFFSETFROM:-0800
TZOFFSETTO:-0700
TZNAME:PDT
DTSTART:20260308T100000
END:DAYLIGHT
BEGIN:STANDARD
TZOFFSETFROM:-0700
TZOFFSETTO:-0800
TZNAME:PST
DTSTART:20261101T090000
END:STANDARD
END:VTIMEZONE
BEGIN:VEVENT
DTSTART;TZID=America/Vancouver:20250501T120000
DTEND;TZID=America/Vancouver:20250501T130000
DTSTAMP:20260420T002714
CREATED:20250729T224240Z
LAST-MODIFIED:20251020T223908Z
UID:10008181-1746100800-1746104400@issbc.org
SUMMARY:Global Talent Loans Program Info Session - Online
DESCRIPTION:Global Talent Loans Program is part of the Foreign Credential Recognition (FCR) Project in Canada\, and we are the service provider for BC residents who are:\n\nPermanent Residents\n\n\n\nNaturalized Canadian Citizens\n\n\n\nProtected Person / Granted Refugee\n\n\n\n\n\nOur info session will cover the following: \n\nOverview of Global Talent Loans Program\n\n\n\nEligibility Criteria\n\n\n\nProgram Offerings\n\n\n\n\n\nOur info sessions are held regularly on Tuesdays and Thursdays at 12:00pm PDT
URL:https://issbc.org/event/global-talent-loans-program-info-session-3/2025-05-01/
LOCATION:Online – Zoom
CATEGORIES:Find Work
ATTACH;FMTTYPE=image/jpeg:https://issbc.org/wp-content/uploads/2025/07/GTL-Info-Session-Media-scaled.jpg
END:VEVENT
BEGIN:VEVENT
DTSTART;TZID=America/Vancouver:20250501T120000
DTEND;TZID=America/Vancouver:20250501T130000
DTSTAMP:20260420T002714
CREATED:20251020T224008Z
LAST-MODIFIED:20251020T224011Z
UID:10010599-1746100800-1746104400@issbc.org
SUMMARY:Global Talent Loans Program Info Session - Online
DESCRIPTION:Global Talent Loans Program is part of the Foreign Credential Recognition (FCR) Project in Canada\, and we are the service provider for BC residents who are:\n\nPermanent Residents\n\n\n\nNaturalized Canadian Citizens\n\n\n\nProtected Person / Granted Refugee\n\n\n\n\n\nOur info session will cover the following: \n\nOverview of Global Talent Loans Program\n\n\n\nEligibility Criteria\n\n\n\nProgram Offerings\n\n\n\n\n\nOur info sessions are held regularly on Tuesdays and Thursdays at 12:00pm PDT
URL:https://issbc.org/event/global-talent-loans-program-info-session-online/2025-05-01/
LOCATION:Online – Zoom
CATEGORIES:Find Work
ATTACH;FMTTYPE=image/jpeg:https://issbc.org/wp-content/uploads/2025/07/GTL-Info-Session-Media-scaled.jpg
END:VEVENT
BEGIN:VEVENT
DTSTART;TZID=America/Vancouver:20250506T120000
DTEND;TZID=America/Vancouver:20250506T130000
DTSTAMP:20260420T002714
CREATED:20250729T224240Z
LAST-MODIFIED:20251020T223908Z
UID:10008199-1746532800-1746536400@issbc.org
SUMMARY:Global Talent Loans Program Info Session - Online
DESCRIPTION:Global Talent Loans Program is part of the Foreign Credential Recognition (FCR) Project in Canada\, and we are the service provider for BC residents who are:\n\nPermanent Residents\n\n\n\nNaturalized Canadian Citizens\n\n\n\nProtected Person / Granted Refugee\n\n\n\n\n\nOur info session will cover the following: \n\nOverview of Global Talent Loans Program\n\n\n\nEligibility Criteria\n\n\n\nProgram Offerings\n\n\n\n\n\nOur info sessions are held regularly on Tuesdays and Thursdays at 12:00pm PDT
URL:https://issbc.org/event/global-talent-loans-program-info-session-3/2025-05-06/
LOCATION:Online – Zoom
CATEGORIES:Find Work
ATTACH;FMTTYPE=image/jpeg:https://issbc.org/wp-content/uploads/2025/07/GTL-Info-Session-Media-scaled.jpg
END:VEVENT
BEGIN:VEVENT
DTSTART;TZID=America/Vancouver:20250506T120000
DTEND;TZID=America/Vancouver:20250506T130000
DTSTAMP:20260420T002714
CREATED:20251020T224008Z
LAST-MODIFIED:20251020T224011Z
UID:10010600-1746532800-1746536400@issbc.org
SUMMARY:Global Talent Loans Program Info Session - Online
DESCRIPTION:Global Talent Loans Program is part of the Foreign Credential Recognition (FCR) Project in Canada\, and we are the service provider for BC residents who are:\n\nPermanent Residents\n\n\n\nNaturalized Canadian Citizens\n\n\n\nProtected Person / Granted Refugee\n\n\n\n\n\nOur info session will cover the following: \n\nOverview of Global Talent Loans Program\n\n\n\nEligibility Criteria\n\n\n\nProgram Offerings\n\n\n\n\n\nOur info sessions are held regularly on Tuesdays and Thursdays at 12:00pm PDT
URL:https://issbc.org/event/global-talent-loans-program-info-session-online/2025-05-06/
LOCATION:Online – Zoom
CATEGORIES:Find Work
ATTACH;FMTTYPE=image/jpeg:https://issbc.org/wp-content/uploads/2025/07/GTL-Info-Session-Media-scaled.jpg
END:VEVENT
BEGIN:VEVENT
DTSTART;TZID=America/Vancouver:20250508T120000
DTEND;TZID=America/Vancouver:20250508T130000
DTSTAMP:20260420T002714
CREATED:20250729T224240Z
LAST-MODIFIED:20251020T223908Z
UID:10008200-1746705600-1746709200@issbc.org
SUMMARY:Global Talent Loans Program Info Session - Online
DESCRIPTION:Global Talent Loans Program is part of the Foreign Credential Recognition (FCR) Project in Canada\, and we are the service provider for BC residents who are:\n\nPermanent Residents\n\n\n\nNaturalized Canadian Citizens\n\n\n\nProtected Person / Granted Refugee\n\n\n\n\n\nOur info session will cover the following: \n\nOverview of Global Talent Loans Program\n\n\n\nEligibility Criteria\n\n\n\nProgram Offerings\n\n\n\n\n\nOur info sessions are held regularly on Tuesdays and Thursdays at 12:00pm PDT
URL:https://issbc.org/event/global-talent-loans-program-info-session-3/2025-05-08/
LOCATION:Online – Zoom
CATEGORIES:Find Work
ATTACH;FMTTYPE=image/jpeg:https://issbc.org/wp-content/uploads/2025/07/GTL-Info-Session-Media-scaled.jpg
END:VEVENT
BEGIN:VEVENT
DTSTART;TZID=America/Vancouver:20250508T120000
DTEND;TZID=America/Vancouver:20250508T130000
DTSTAMP:20260420T002714
CREATED:20251020T224008Z
LAST-MODIFIED:20251020T224011Z
UID:10010601-1746705600-1746709200@issbc.org
SUMMARY:Global Talent Loans Program Info Session - Online
DESCRIPTION:Global Talent Loans Program is part of the Foreign Credential Recognition (FCR) Project in Canada\, and we are the service provider for BC residents who are:\n\nPermanent Residents\n\n\n\nNaturalized Canadian Citizens\n\n\n\nProtected Person / Granted Refugee\n\n\n\n\n\nOur info session will cover the following: \n\nOverview of Global Talent Loans Program\n\n\n\nEligibility Criteria\n\n\n\nProgram Offerings\n\n\n\n\n\nOur info sessions are held regularly on Tuesdays and Thursdays at 12:00pm PDT
URL:https://issbc.org/event/global-talent-loans-program-info-session-online/2025-05-08/
LOCATION:Online – Zoom
CATEGORIES:Find Work
ATTACH;FMTTYPE=image/jpeg:https://issbc.org/wp-content/uploads/2025/07/GTL-Info-Session-Media-scaled.jpg
END:VEVENT
BEGIN:VEVENT
DTSTART;TZID=America/Vancouver:20250513T120000
DTEND;TZID=America/Vancouver:20250513T130000
DTSTAMP:20260420T002714
CREATED:20250729T224240Z
LAST-MODIFIED:20251020T223908Z
UID:10008182-1747137600-1747141200@issbc.org
SUMMARY:Global Talent Loans Program Info Session - Online
DESCRIPTION:Global Talent Loans Program is part of the Foreign Credential Recognition (FCR) Project in Canada\, and we are the service provider for BC residents who are:\n\nPermanent Residents\n\n\n\nNaturalized Canadian Citizens\n\n\n\nProtected Person / Granted Refugee\n\n\n\n\n\nOur info session will cover the following: \n\nOverview of Global Talent Loans Program\n\n\n\nEligibility Criteria\n\n\n\nProgram Offerings\n\n\n\n\n\nOur info sessions are held regularly on Tuesdays and Thursdays at 12:00pm PDT
URL:https://issbc.org/event/global-talent-loans-program-info-session-3/2025-05-13/
LOCATION:Online – Zoom
CATEGORIES:Find Work
ATTACH;FMTTYPE=image/jpeg:https://issbc.org/wp-content/uploads/2025/07/GTL-Info-Session-Media-scaled.jpg
END:VEVENT
BEGIN:VEVENT
DTSTART;TZID=America/Vancouver:20250513T120000
DTEND;TZID=America/Vancouver:20250513T130000
DTSTAMP:20260420T002714
CREATED:20251020T224008Z
LAST-MODIFIED:20251020T224011Z
UID:10010602-1747137600-1747141200@issbc.org
SUMMARY:Global Talent Loans Program Info Session - Online
DESCRIPTION:Global Talent Loans Program is part of the Foreign Credential Recognition (FCR) Project in Canada\, and we are the service provider for BC residents who are:\n\nPermanent Residents\n\n\n\nNaturalized Canadian Citizens\n\n\n\nProtected Person / Granted Refugee\n\n\n\n\n\nOur info session will cover the following: \n\nOverview of Global Talent Loans Program\n\n\n\nEligibility Criteria\n\n\n\nProgram Offerings\n\n\n\n\n\nOur info sessions are held regularly on Tuesdays and Thursdays at 12:00pm PDT
URL:https://issbc.org/event/global-talent-loans-program-info-session-online/2025-05-13/
LOCATION:Online – Zoom
CATEGORIES:Find Work
ATTACH;FMTTYPE=image/jpeg:https://issbc.org/wp-content/uploads/2025/07/GTL-Info-Session-Media-scaled.jpg
END:VEVENT
BEGIN:VEVENT
DTSTART;TZID=America/Vancouver:20250515T120000
DTEND;TZID=America/Vancouver:20250515T130000
DTSTAMP:20260420T002714
CREATED:20250609T170503Z
LAST-MODIFIED:20250609T170504Z
UID:10002301-1747310400-1747314000@issbc.org
SUMMARY:Career Paths for Skilled Immigrants Information Session
DESCRIPTION:Thank you for your interest in the Career Paths program!   \nISSofBC is a non-profit organization\, and Career Paths is an employment program designed to assist newcomers in reconnecting with their pre-arrival occupations/careers. The program is government-funded and comes at no cost to you. Here are some of the services we offer:    \n\nFUNDED Skills Training and Upgrading   \n\n\nACTION PLANNING based on your career goals   \n\n\nCREDENTIAL EVALUATION    \n\n\nOne-On-One JOB SEARCH Support   \n\n\nMENTORING OPPORTUNITIES   \n\n\nEMPLOYER OR INDUSTRY EVENTS FOR NETWORKING    \n\n\nEMPLOYER CONNECTIONS   \n\n\nPRACTICUM OPPORTUNITIES (can include RELATED/ALIGNED OCCUPATIONS)   \n\nThank you for your interest in participating in the Career Paths Information Session at ISSofBC! \nAs a skilled immigrant\, this is your opportunity to learn how Career Paths can assist you with returning to your pre-arrival profession. \nIn this session you will learn more information on our services\, such as: \n– Credential evaluations and obtaining BC licenses \n– Regulatory body and association memberships \n– Skills and course funding \n– Career planning and job search support \n– Work placement opportunities \n– Connections to BC employers \n– Access to BC Mentors \n \nThank you for your interest and look forward to meeting you soon! \n \nCareer Paths Team
URL:https://issbc.org/event/career-paths-for-skilled-immigrants-information-session/2025-05-15/
CATEGORIES:Find Work
ATTACH;FMTTYPE=image/jpeg:https://issbc.org/wp-content/uploads/2025/05/New-West-info-Session-.jpg
ORGANIZER;CN="career paths":MAILTO:careerpaths@issbc.org
END:VEVENT
BEGIN:VEVENT
DTSTART;TZID=America/Vancouver:20250515T120000
DTEND;TZID=America/Vancouver:20250515T130000
DTSTAMP:20260420T002714
CREATED:20250729T224240Z
LAST-MODIFIED:20251020T223908Z
UID:10008183-1747310400-1747314000@issbc.org
SUMMARY:Global Talent Loans Program Info Session - Online
DESCRIPTION:Global Talent Loans Program is part of the Foreign Credential Recognition (FCR) Project in Canada\, and we are the service provider for BC residents who are:\n\nPermanent Residents\n\n\n\nNaturalized Canadian Citizens\n\n\n\nProtected Person / Granted Refugee\n\n\n\n\n\nOur info session will cover the following: \n\nOverview of Global Talent Loans Program\n\n\n\nEligibility Criteria\n\n\n\nProgram Offerings\n\n\n\n\n\nOur info sessions are held regularly on Tuesdays and Thursdays at 12:00pm PDT
URL:https://issbc.org/event/global-talent-loans-program-info-session-3/2025-05-15/
LOCATION:Online – Zoom
CATEGORIES:Find Work
ATTACH;FMTTYPE=image/jpeg:https://issbc.org/wp-content/uploads/2025/07/GTL-Info-Session-Media-scaled.jpg
END:VEVENT
BEGIN:VEVENT
DTSTART;TZID=America/Vancouver:20250515T120000
DTEND;TZID=America/Vancouver:20250515T130000
DTSTAMP:20260420T002714
CREATED:20251020T224008Z
LAST-MODIFIED:20251020T224011Z
UID:10010603-1747310400-1747314000@issbc.org
SUMMARY:Global Talent Loans Program Info Session - Online
DESCRIPTION:Global Talent Loans Program is part of the Foreign Credential Recognition (FCR) Project in Canada\, and we are the service provider for BC residents who are:\n\nPermanent Residents\n\n\n\nNaturalized Canadian Citizens\n\n\n\nProtected Person / Granted Refugee\n\n\n\n\n\nOur info session will cover the following: \n\nOverview of Global Talent Loans Program\n\n\n\nEligibility Criteria\n\n\n\nProgram Offerings\n\n\n\n\n\nOur info sessions are held regularly on Tuesdays and Thursdays at 12:00pm PDT
URL:https://issbc.org/event/global-talent-loans-program-info-session-online/2025-05-15/
LOCATION:Online – Zoom
CATEGORIES:Find Work
ATTACH;FMTTYPE=image/jpeg:https://issbc.org/wp-content/uploads/2025/07/GTL-Info-Session-Media-scaled.jpg
END:VEVENT
BEGIN:VEVENT
DTSTART;TZID=America/Vancouver:20250520T120000
DTEND;TZID=America/Vancouver:20250520T123000
DTSTAMP:20260420T002714
CREATED:20250516T204220Z
LAST-MODIFIED:20250516T204222Z
UID:10001721-1747742400-1747744200@issbc.org
SUMMARY:B-Hired Information Session - Online
DESCRIPTION:ISSofBC offers a free online job readiness and skills training program for newcomer youth to launch their careers in Canada. The B-Hired program provides:▪ Job Readiness workshops▪ Skills Specific/Occupational Skills training leading to certificates▪ Job Search Support/Work Experience Placement▪ Follow-up Support \n\nThis dynamic program will provide career counselling and coaching that will help to focus job goals highlighting “in demand” jobs\, create an effective Action Plan\, resume and polish interview/networking skills resulting in increased confidence for work. \n\nEligibility Criteria \n\n❑ Youth between age 16 to 29 years old❑ Canadian citizen\, Permanent Resident\, or Protected Person legally entitled to work in Canada❑ Living in British Columbia in Vancouver\, Burnaby\, New Westminster\, Richmond\, Surrey\, Langley\, Coquitlam\, Maple Ridge\, and Squamish❑ Unemployed or Precariously Employed❑ Intermediate to Advanced English (minimum CLB 5+) \n\nView Poster
URL:https://issbc.org/event/b-hired-information-session-online/2025-05-20/
CATEGORIES:Find Work
ATTACH;FMTTYPE=image/png:https://issbc.org/wp-content/uploads/2025/05/Screenshot-2025-05-16-091511.png
END:VEVENT
BEGIN:VEVENT
DTSTART;TZID=America/Vancouver:20250520T120000
DTEND;TZID=America/Vancouver:20250520T130000
DTSTAMP:20260420T002714
CREATED:20250729T224240Z
LAST-MODIFIED:20251020T223908Z
UID:10008201-1747742400-1747746000@issbc.org
SUMMARY:Global Talent Loans Program Info Session - Online
DESCRIPTION:Global Talent Loans Program is part of the Foreign Credential Recognition (FCR) Project in Canada\, and we are the service provider for BC residents who are:\n\nPermanent Residents\n\n\n\nNaturalized Canadian Citizens\n\n\n\nProtected Person / Granted Refugee\n\n\n\n\n\nOur info session will cover the following: \n\nOverview of Global Talent Loans Program\n\n\n\nEligibility Criteria\n\n\n\nProgram Offerings\n\n\n\n\n\nOur info sessions are held regularly on Tuesdays and Thursdays at 12:00pm PDT
URL:https://issbc.org/event/global-talent-loans-program-info-session-3/2025-05-20/
LOCATION:Online – Zoom
CATEGORIES:Find Work
ATTACH;FMTTYPE=image/jpeg:https://issbc.org/wp-content/uploads/2025/07/GTL-Info-Session-Media-scaled.jpg
END:VEVENT
BEGIN:VEVENT
DTSTART;TZID=America/Vancouver:20250520T120000
DTEND;TZID=America/Vancouver:20250520T130000
DTSTAMP:20260420T002714
CREATED:20251020T224008Z
LAST-MODIFIED:20251020T224011Z
UID:10010604-1747742400-1747746000@issbc.org
SUMMARY:Global Talent Loans Program Info Session - Online
DESCRIPTION:Global Talent Loans Program is part of the Foreign Credential Recognition (FCR) Project in Canada\, and we are the service provider for BC residents who are:\n\nPermanent Residents\n\n\n\nNaturalized Canadian Citizens\n\n\n\nProtected Person / Granted Refugee\n\n\n\n\n\nOur info session will cover the following: \n\nOverview of Global Talent Loans Program\n\n\n\nEligibility Criteria\n\n\n\nProgram Offerings\n\n\n\n\n\nOur info sessions are held regularly on Tuesdays and Thursdays at 12:00pm PDT
URL:https://issbc.org/event/global-talent-loans-program-info-session-online/2025-05-20/
LOCATION:Online – Zoom
CATEGORIES:Find Work
ATTACH;FMTTYPE=image/jpeg:https://issbc.org/wp-content/uploads/2025/07/GTL-Info-Session-Media-scaled.jpg
END:VEVENT
BEGIN:VEVENT
DTSTART;TZID=America/Vancouver:20250522T120000
DTEND;TZID=America/Vancouver:20250522T130000
DTSTAMP:20260420T002714
CREATED:20250729T224240Z
LAST-MODIFIED:20251020T223908Z
UID:10008202-1747915200-1747918800@issbc.org
SUMMARY:Global Talent Loans Program Info Session - Online
DESCRIPTION:Global Talent Loans Program is part of the Foreign Credential Recognition (FCR) Project in Canada\, and we are the service provider for BC residents who are:\n\nPermanent Residents\n\n\n\nNaturalized Canadian Citizens\n\n\n\nProtected Person / Granted Refugee\n\n\n\n\n\nOur info session will cover the following: \n\nOverview of Global Talent Loans Program\n\n\n\nEligibility Criteria\n\n\n\nProgram Offerings\n\n\n\n\n\nOur info sessions are held regularly on Tuesdays and Thursdays at 12:00pm PDT
URL:https://issbc.org/event/global-talent-loans-program-info-session-3/2025-05-22/
LOCATION:Online – Zoom
CATEGORIES:Find Work
ATTACH;FMTTYPE=image/jpeg:https://issbc.org/wp-content/uploads/2025/07/GTL-Info-Session-Media-scaled.jpg
END:VEVENT
BEGIN:VEVENT
DTSTART;TZID=America/Vancouver:20250522T120000
DTEND;TZID=America/Vancouver:20250522T130000
DTSTAMP:20260420T002714
CREATED:20251020T224008Z
LAST-MODIFIED:20251020T224011Z
UID:10010605-1747915200-1747918800@issbc.org
SUMMARY:Global Talent Loans Program Info Session - Online
DESCRIPTION:Global Talent Loans Program is part of the Foreign Credential Recognition (FCR) Project in Canada\, and we are the service provider for BC residents who are:\n\nPermanent Residents\n\n\n\nNaturalized Canadian Citizens\n\n\n\nProtected Person / Granted Refugee\n\n\n\n\n\nOur info session will cover the following: \n\nOverview of Global Talent Loans Program\n\n\n\nEligibility Criteria\n\n\n\nProgram Offerings\n\n\n\n\n\nOur info sessions are held regularly on Tuesdays and Thursdays at 12:00pm PDT
URL:https://issbc.org/event/global-talent-loans-program-info-session-online/2025-05-22/
LOCATION:Online – Zoom
CATEGORIES:Find Work
ATTACH;FMTTYPE=image/jpeg:https://issbc.org/wp-content/uploads/2025/07/GTL-Info-Session-Media-scaled.jpg
END:VEVENT
BEGIN:VEVENT
DTSTART;TZID=America/Vancouver:20250523T120000
DTEND;TZID=America/Vancouver:20250523T123000
DTSTAMP:20260420T002714
CREATED:20250516T204220Z
LAST-MODIFIED:20250516T204222Z
UID:10001722-1748001600-1748003400@issbc.org
SUMMARY:B-Hired Information Session - Online
DESCRIPTION:ISSofBC offers a free online job readiness and skills training program for newcomer youth to launch their careers in Canada. The B-Hired program provides:▪ Job Readiness workshops▪ Skills Specific/Occupational Skills training leading to certificates▪ Job Search Support/Work Experience Placement▪ Follow-up Support \n\nThis dynamic program will provide career counselling and coaching that will help to focus job goals highlighting “in demand” jobs\, create an effective Action Plan\, resume and polish interview/networking skills resulting in increased confidence for work. \n\nEligibility Criteria \n\n❑ Youth between age 16 to 29 years old❑ Canadian citizen\, Permanent Resident\, or Protected Person legally entitled to work in Canada❑ Living in British Columbia in Vancouver\, Burnaby\, New Westminster\, Richmond\, Surrey\, Langley\, Coquitlam\, Maple Ridge\, and Squamish❑ Unemployed or Precariously Employed❑ Intermediate to Advanced English (minimum CLB 5+) \n\nView Poster
URL:https://issbc.org/event/b-hired-information-session-online/2025-05-23/
CATEGORIES:Find Work
ATTACH;FMTTYPE=image/png:https://issbc.org/wp-content/uploads/2025/05/Screenshot-2025-05-16-091511.png
END:VEVENT
BEGIN:VEVENT
DTSTART;TZID=America/Vancouver:20250527T120000
DTEND;TZID=America/Vancouver:20250527T123000
DTSTAMP:20260420T002714
CREATED:20250516T204220Z
LAST-MODIFIED:20250516T204222Z
UID:10001723-1748347200-1748349000@issbc.org
SUMMARY:B-Hired Information Session - Online
DESCRIPTION:ISSofBC offers a free online job readiness and skills training program for newcomer youth to launch their careers in Canada. The B-Hired program provides:▪ Job Readiness workshops▪ Skills Specific/Occupational Skills training leading to certificates▪ Job Search Support/Work Experience Placement▪ Follow-up Support \n\nThis dynamic program will provide career counselling and coaching that will help to focus job goals highlighting “in demand” jobs\, create an effective Action Plan\, resume and polish interview/networking skills resulting in increased confidence for work. \n\nEligibility Criteria \n\n❑ Youth between age 16 to 29 years old❑ Canadian citizen\, Permanent Resident\, or Protected Person legally entitled to work in Canada❑ Living in British Columbia in Vancouver\, Burnaby\, New Westminster\, Richmond\, Surrey\, Langley\, Coquitlam\, Maple Ridge\, and Squamish❑ Unemployed or Precariously Employed❑ Intermediate to Advanced English (minimum CLB 5+) \n\nView Poster
URL:https://issbc.org/event/b-hired-information-session-online/2025-05-27/
CATEGORIES:Find Work
ATTACH;FMTTYPE=image/png:https://issbc.org/wp-content/uploads/2025/05/Screenshot-2025-05-16-091511.png
END:VEVENT
BEGIN:VEVENT
DTSTART;TZID=America/Vancouver:20250527T120000
DTEND;TZID=America/Vancouver:20250527T130000
DTSTAMP:20260420T002714
CREATED:20250729T224240Z
LAST-MODIFIED:20251020T223908Z
UID:10008184-1748347200-1748350800@issbc.org
SUMMARY:Global Talent Loans Program Info Session - Online
DESCRIPTION:Global Talent Loans Program is part of the Foreign Credential Recognition (FCR) Project in Canada\, and we are the service provider for BC residents who are:\n\nPermanent Residents\n\n\n\nNaturalized Canadian Citizens\n\n\n\nProtected Person / Granted Refugee\n\n\n\n\n\nOur info session will cover the following: \n\nOverview of Global Talent Loans Program\n\n\n\nEligibility Criteria\n\n\n\nProgram Offerings\n\n\n\n\n\nOur info sessions are held regularly on Tuesdays and Thursdays at 12:00pm PDT
URL:https://issbc.org/event/global-talent-loans-program-info-session-3/2025-05-27/
LOCATION:Online – Zoom
CATEGORIES:Find Work
ATTACH;FMTTYPE=image/jpeg:https://issbc.org/wp-content/uploads/2025/07/GTL-Info-Session-Media-scaled.jpg
END:VEVENT
BEGIN:VEVENT
DTSTART;TZID=America/Vancouver:20250527T120000
DTEND;TZID=America/Vancouver:20250527T130000
DTSTAMP:20260420T002714
CREATED:20251020T224008Z
LAST-MODIFIED:20251020T224011Z
UID:10010606-1748347200-1748350800@issbc.org
SUMMARY:Global Talent Loans Program Info Session - Online
DESCRIPTION:Global Talent Loans Program is part of the Foreign Credential Recognition (FCR) Project in Canada\, and we are the service provider for BC residents who are:\n\nPermanent Residents\n\n\n\nNaturalized Canadian Citizens\n\n\n\nProtected Person / Granted Refugee\n\n\n\n\n\nOur info session will cover the following: \n\nOverview of Global Talent Loans Program\n\n\n\nEligibility Criteria\n\n\n\nProgram Offerings\n\n\n\n\n\nOur info sessions are held regularly on Tuesdays and Thursdays at 12:00pm PDT
URL:https://issbc.org/event/global-talent-loans-program-info-session-online/2025-05-27/
LOCATION:Online – Zoom
CATEGORIES:Find Work
ATTACH;FMTTYPE=image/jpeg:https://issbc.org/wp-content/uploads/2025/07/GTL-Info-Session-Media-scaled.jpg
END:VEVENT
BEGIN:VEVENT
DTSTART;TZID=America/Vancouver:20250529T120000
DTEND;TZID=America/Vancouver:20250529T130000
DTSTAMP:20260420T002714
CREATED:20250729T224240Z
LAST-MODIFIED:20251020T223908Z
UID:10008185-1748520000-1748523600@issbc.org
SUMMARY:Global Talent Loans Program Info Session - Online
DESCRIPTION:Global Talent Loans Program is part of the Foreign Credential Recognition (FCR) Project in Canada\, and we are the service provider for BC residents who are:\n\nPermanent Residents\n\n\n\nNaturalized Canadian Citizens\n\n\n\nProtected Person / Granted Refugee\n\n\n\n\n\nOur info session will cover the following: \n\nOverview of Global Talent Loans Program\n\n\n\nEligibility Criteria\n\n\n\nProgram Offerings\n\n\n\n\n\nOur info sessions are held regularly on Tuesdays and Thursdays at 12:00pm PDT
URL:https://issbc.org/event/global-talent-loans-program-info-session-3/2025-05-29/
LOCATION:Online – Zoom
CATEGORIES:Find Work
ATTACH;FMTTYPE=image/jpeg:https://issbc.org/wp-content/uploads/2025/07/GTL-Info-Session-Media-scaled.jpg
END:VEVENT
BEGIN:VEVENT
DTSTART;TZID=America/Vancouver:20250529T120000
DTEND;TZID=America/Vancouver:20250529T130000
DTSTAMP:20260420T002714
CREATED:20251020T224008Z
LAST-MODIFIED:20251020T224011Z
UID:10010607-1748520000-1748523600@issbc.org
SUMMARY:Global Talent Loans Program Info Session - Online
DESCRIPTION:Global Talent Loans Program is part of the Foreign Credential Recognition (FCR) Project in Canada\, and we are the service provider for BC residents who are:\n\nPermanent Residents\n\n\n\nNaturalized Canadian Citizens\n\n\n\nProtected Person / Granted Refugee\n\n\n\n\n\nOur info session will cover the following: \n\nOverview of Global Talent Loans Program\n\n\n\nEligibility Criteria\n\n\n\nProgram Offerings\n\n\n\n\n\nOur info sessions are held regularly on Tuesdays and Thursdays at 12:00pm PDT
URL:https://issbc.org/event/global-talent-loans-program-info-session-online/2025-05-29/
LOCATION:Online – Zoom
CATEGORIES:Find Work
ATTACH;FMTTYPE=image/jpeg:https://issbc.org/wp-content/uploads/2025/07/GTL-Info-Session-Media-scaled.jpg
END:VEVENT
BEGIN:VEVENT
DTSTART;TZID=America/Vancouver:20250530T120000
DTEND;TZID=America/Vancouver:20250530T123000
DTSTAMP:20260420T002714
CREATED:20250516T204220Z
LAST-MODIFIED:20250516T204222Z
UID:10001724-1748606400-1748608200@issbc.org
SUMMARY:B-Hired Information Session - Online
DESCRIPTION:ISSofBC offers a free online job readiness and skills training program for newcomer youth to launch their careers in Canada. The B-Hired program provides:▪ Job Readiness workshops▪ Skills Specific/Occupational Skills training leading to certificates▪ Job Search Support/Work Experience Placement▪ Follow-up Support \n\nThis dynamic program will provide career counselling and coaching that will help to focus job goals highlighting “in demand” jobs\, create an effective Action Plan\, resume and polish interview/networking skills resulting in increased confidence for work. \n\nEligibility Criteria \n\n❑ Youth between age 16 to 29 years old❑ Canadian citizen\, Permanent Resident\, or Protected Person legally entitled to work in Canada❑ Living in British Columbia in Vancouver\, Burnaby\, New Westminster\, Richmond\, Surrey\, Langley\, Coquitlam\, Maple Ridge\, and Squamish❑ Unemployed or Precariously Employed❑ Intermediate to Advanced English (minimum CLB 5+) \n\nView Poster
URL:https://issbc.org/event/b-hired-information-session-online/2025-05-30/
CATEGORIES:Find Work
ATTACH;FMTTYPE=image/png:https://issbc.org/wp-content/uploads/2025/05/Screenshot-2025-05-16-091511.png
END:VEVENT
END:VCALENDAR