BEGIN:VCALENDAR
VERSION:2.0
PRODID:-//Immigrant Services Society of BC (ISSofBC) - ECPv6.15.20//NONSGML v1.0//EN
CALSCALE:GREGORIAN
METHOD:PUBLISH
X-ORIGINAL-URL:https://issbc.org
X-WR-CALDESC:Events for Immigrant Services Society of BC (ISSofBC)
REFRESH-INTERVAL;VALUE=DURATION:PT1H
X-Robots-Tag:noindex
X-PUBLISHED-TTL:PT1H
BEGIN:VTIMEZONE
TZID:America/Vancouver
BEGIN:DAYLIGHT
TZOFFSETFROM:-0800
TZOFFSETTO:-0700
TZNAME:PDT
DTSTART:20240310T100000
END:DAYLIGHT
BEGIN:STANDARD
TZOFFSETFROM:-0700
TZOFFSETTO:-0800
TZNAME:PST
DTSTART:20241103T090000
END:STANDARD
BEGIN:DAYLIGHT
TZOFFSETFROM:-0800
TZOFFSETTO:-0700
TZNAME:PDT
DTSTART:20250309T100000
END:DAYLIGHT
BEGIN:STANDARD
TZOFFSETFROM:-0700
TZOFFSETTO:-0800
TZNAME:PST
DTSTART:20251102T090000
END:STANDARD
BEGIN:DAYLIGHT
TZOFFSETFROM:-0800
TZOFFSETTO:-0700
TZNAME:PDT
DTSTART:20260308T100000
END:DAYLIGHT
BEGIN:STANDARD
TZOFFSETFROM:-0700
TZOFFSETTO:-0800
TZNAME:PST
DTSTART:20261101T090000
END:STANDARD
END:VTIMEZONE
BEGIN:VEVENT
DTSTART;TZID=America/Vancouver:20250808T130000
DTEND;TZID=America/Vancouver:20250808T150000
DTSTAMP:20260422T020745
CREATED:20250716T171436Z
LAST-MODIFIED:20250716T171437Z
UID:10007850-1754658000-1754665200@issbc.org
SUMMARY:Networking: Navigating the Labour Market & Intersectionality Workshop - BC NSP & Safe Haven Program - Online
DESCRIPTION:Want to connect with the right people\, find helpful resources related to your profession\, and understand today’s job market? \n\nJoin our workshop designed to help you build strong networks\, gain career insights\, navigate the labour market in BC\, and understand how intersectionality impacts your employment experience. \n\nThis session will guide you through effective networking strategies\, labour market insights\, and how to leverage your unique identity and experiences to succeed. \n\n\n\nIn this session\, you’ll learn how to: \n\n\n	Develop strategies for long-term career success\n\n	Build and grow meaningful professional connections\n\n	Understand BC’s labour market trends and job opportunities\n\n	Find helpful resources related to your profession and gain career insights\n\n	Navigate challenges related to identity\, culture\, and diversity in the workplace\n\n	Use intersectionality to your advantage in your career journey\n\n	Access community resources and support networks\n\n\nJoin us to learn how to expand your network\, understand your strengths\, and take charge of your career! \n\nWe’re here to support your path to success in the BC labour market.
URL:https://issbc.org/event/networking-navigating-the-labour-market-intersectionality-workshop-bc-nsp-safe-haven-program-online-2/
CATEGORIES:Find Work
ATTACH;FMTTYPE=image/jpeg:https://issbc.org/wp-content/uploads/2025/06/Networking.jpg
END:VEVENT
BEGIN:VEVENT
DTSTART;TZID=America/Vancouver:20250827T130000
DTEND;TZID=America/Vancouver:20250827T150000
DTSTAMP:20260422T020745
CREATED:20250716T171603Z
LAST-MODIFIED:20250716T171604Z
UID:10007851-1756299600-1756306800@issbc.org
SUMMARY:Networking: Navigating the Labour Market & Intersectionality Workshop - BC NSP & Safe Haven Program - Online
DESCRIPTION:Want to connect with the right people\, find helpful resources related to your profession\, and understand today’s job market? \n\nJoin our workshop designed to help you build strong networks\, gain career insights\, navigate the labour market in BC\, and understand how intersectionality impacts your employment experience. \n\nThis session will guide you through effective networking strategies\, labour market insights\, and how to leverage your unique identity and experiences to succeed. \n\n\n\nIn this session\, you’ll learn how to: \n\n\n	Develop strategies for long-term career success\n\n	Build and grow meaningful professional connections\n\n	Understand BC’s labour market trends and job opportunities\n\n	Find helpful resources related to your profession and gain career insights\n\n	Navigate challenges related to identity\, culture\, and diversity in the workplace\n\n	Use intersectionality to your advantage in your career journey\n\n	Access community resources and support networks\n\n\nJoin us to learn how to expand your network\, understand your strengths\, and take charge of your career! \n\nWe’re here to support your path to success in the BC labour market.
URL:https://issbc.org/event/networking-navigating-the-labour-market-intersectionality-workshop-bc-nsp-safe-haven-program-online-3/
CATEGORIES:Find Work
ATTACH;FMTTYPE=image/jpeg:https://issbc.org/wp-content/uploads/2025/06/Networking.jpg
END:VEVENT
END:VCALENDAR