BEGIN:VCALENDAR
VERSION:2.0
PRODID:-//Immigrant Services Society of BC (ISSofBC) - ECPv6.15.20//NONSGML v1.0//EN
CALSCALE:GREGORIAN
METHOD:PUBLISH
X-WR-CALNAME:Immigrant Services Society of BC (ISSofBC)
X-ORIGINAL-URL:https://issbc.org
X-WR-CALDESC:Events for Immigrant Services Society of BC (ISSofBC)
REFRESH-INTERVAL;VALUE=DURATION:PT1H
X-Robots-Tag:noindex
X-PUBLISHED-TTL:PT1H
BEGIN:VTIMEZONE
TZID:America/Vancouver
BEGIN:DAYLIGHT
TZOFFSETFROM:-0800
TZOFFSETTO:-0700
TZNAME:PDT
DTSTART:20240310T100000
END:DAYLIGHT
BEGIN:STANDARD
TZOFFSETFROM:-0700
TZOFFSETTO:-0800
TZNAME:PST
DTSTART:20241103T090000
END:STANDARD
BEGIN:DAYLIGHT
TZOFFSETFROM:-0800
TZOFFSETTO:-0700
TZNAME:PDT
DTSTART:20250309T100000
END:DAYLIGHT
BEGIN:STANDARD
TZOFFSETFROM:-0700
TZOFFSETTO:-0800
TZNAME:PST
DTSTART:20251102T090000
END:STANDARD
BEGIN:DAYLIGHT
TZOFFSETFROM:-0800
TZOFFSETTO:-0700
TZNAME:PDT
DTSTART:20260308T100000
END:DAYLIGHT
BEGIN:STANDARD
TZOFFSETFROM:-0700
TZOFFSETTO:-0800
TZNAME:PST
DTSTART:20261101T090000
END:STANDARD
END:VTIMEZONE
BEGIN:VEVENT
DTSTART;TZID=America/Vancouver:20251104T120000
DTEND;TZID=America/Vancouver:20251104T130000
DTSTAMP:20260419T231733
CREATED:20251020T224008Z
LAST-MODIFIED:20251020T224011Z
UID:10008224-1762257600-1762261200@issbc.org
SUMMARY:Global Talent Loans Program Info Session - Online
DESCRIPTION:Global Talent Loans Program is part of the Foreign Credential Recognition (FCR) Project in Canada\, and we are the service provider for BC residents who are:\n\nPermanent Residents\n\n\n\nNaturalized Canadian Citizens\n\n\n\nProtected Person / Granted Refugee\n\n\n\n\n\nOur info session will cover the following: \n\nOverview of Global Talent Loans Program\n\n\n\nEligibility Criteria\n\n\n\nProgram Offerings\n\n\n\n\n\nOur info sessions are held regularly on Tuesdays and Thursdays at 12:00pm PDT
URL:https://issbc.org/event/global-talent-loans-program-info-session-online/2025-11-04/
LOCATION:Online – Zoom
CATEGORIES:Find Work
ATTACH;FMTTYPE=image/jpeg:https://issbc.org/wp-content/uploads/2025/07/GTL-Info-Session-Media-scaled.jpg
END:VEVENT
BEGIN:VEVENT
DTSTART;TZID=America/Vancouver:20251106T120000
DTEND;TZID=America/Vancouver:20251106T130000
DTSTAMP:20260419T231733
CREATED:20251020T224008Z
LAST-MODIFIED:20251020T224011Z
UID:10008225-1762430400-1762434000@issbc.org
SUMMARY:Global Talent Loans Program Info Session - Online
DESCRIPTION:Global Talent Loans Program is part of the Foreign Credential Recognition (FCR) Project in Canada\, and we are the service provider for BC residents who are:\n\nPermanent Residents\n\n\n\nNaturalized Canadian Citizens\n\n\n\nProtected Person / Granted Refugee\n\n\n\n\n\nOur info session will cover the following: \n\nOverview of Global Talent Loans Program\n\n\n\nEligibility Criteria\n\n\n\nProgram Offerings\n\n\n\n\n\nOur info sessions are held regularly on Tuesdays and Thursdays at 12:00pm PDT
URL:https://issbc.org/event/global-talent-loans-program-info-session-online/2025-11-06/
LOCATION:Online – Zoom
CATEGORIES:Find Work
ATTACH;FMTTYPE=image/jpeg:https://issbc.org/wp-content/uploads/2025/07/GTL-Info-Session-Media-scaled.jpg
END:VEVENT
BEGIN:VEVENT
DTSTART;TZID=America/Vancouver:20251106T170000
DTEND;TZID=America/Vancouver:20251106T180000
DTSTAMP:20260419T231733
CREATED:20251021T185946Z
LAST-MODIFIED:20251021T190527Z
UID:10010653-1762448400-1762452000@issbc.org
SUMMARY:Build Your Future with Langara College: Programs\, Training\, and Careers - Global Talent Loans Program - Online
DESCRIPTION:Build Your Future with Langara College: Programs\, Training\, and Careers \n\nDiscover how Langara College can help you gain the skills\, training\, and education needed to unlock new career opportunities.  \n\n\n\nWhat we’ll cover: \n\n\n	Overview of the different programs offered at Langara College (Certificates\, Micro-Credentials\, Diplomas/Associate Degrees\, Bachelor’s Degrees\,  and Post-Degree Programs)\n\n	Admission requirements to get into Langara\n\n	Supports and services available for students at Langara\n\n	General questions about Langara College\n\n\nDo not miss this chance to learn\, connect\, and take the next step in your career journey!
URL:https://issbc.org/event/langara-college-programs-training-careers-webinar-communication-at-the-workplace-global-talent-loans-program-online/
LOCATION:Online via Zoom
CATEGORIES:Find Work
ATTACH;FMTTYPE=image/jpeg:https://issbc.org/wp-content/uploads/2025/08/Webinar-Picture.jpg
END:VEVENT
BEGIN:VEVENT
DTSTART;TZID=America/Vancouver:20251111T120000
DTEND;TZID=America/Vancouver:20251111T130000
DTSTAMP:20260419T231733
CREATED:20251020T224008Z
LAST-MODIFIED:20251020T224011Z
UID:10000320-1762862400-1762866000@issbc.org
SUMMARY:Global Talent Loans Program Info Session - Online
DESCRIPTION:Global Talent Loans Program is part of the Foreign Credential Recognition (FCR) Project in Canada\, and we are the service provider for BC residents who are:\n\nPermanent Residents\n\n\n\nNaturalized Canadian Citizens\n\n\n\nProtected Person / Granted Refugee\n\n\n\n\n\nOur info session will cover the following: \n\nOverview of Global Talent Loans Program\n\n\n\nEligibility Criteria\n\n\n\nProgram Offerings\n\n\n\n\n\nOur info sessions are held regularly on Tuesdays and Thursdays at 12:00pm PDT
URL:https://issbc.org/event/global-talent-loans-program-info-session-online/2025-11-11/
LOCATION:Online – Zoom
CATEGORIES:Find Work
ATTACH;FMTTYPE=image/jpeg:https://issbc.org/wp-content/uploads/2025/07/GTL-Info-Session-Media-scaled.jpg
END:VEVENT
BEGIN:VEVENT
DTSTART;TZID=America/Vancouver:20251113T120000
DTEND;TZID=America/Vancouver:20251113T130000
DTSTAMP:20260419T231733
CREATED:20251020T224008Z
LAST-MODIFIED:20251020T224011Z
UID:10008032-1763035200-1763038800@issbc.org
SUMMARY:Global Talent Loans Program Info Session - Online
DESCRIPTION:Global Talent Loans Program is part of the Foreign Credential Recognition (FCR) Project in Canada\, and we are the service provider for BC residents who are:\n\nPermanent Residents\n\n\n\nNaturalized Canadian Citizens\n\n\n\nProtected Person / Granted Refugee\n\n\n\n\n\nOur info session will cover the following: \n\nOverview of Global Talent Loans Program\n\n\n\nEligibility Criteria\n\n\n\nProgram Offerings\n\n\n\n\n\nOur info sessions are held regularly on Tuesdays and Thursdays at 12:00pm PDT
URL:https://issbc.org/event/global-talent-loans-program-info-session-online/2025-11-13/
LOCATION:Online – Zoom
CATEGORIES:Find Work
ATTACH;FMTTYPE=image/jpeg:https://issbc.org/wp-content/uploads/2025/07/GTL-Info-Session-Media-scaled.jpg
END:VEVENT
BEGIN:VEVENT
DTSTART;TZID=America/Vancouver:20251118T120000
DTEND;TZID=America/Vancouver:20251118T130000
DTSTAMP:20260419T231733
CREATED:20251020T224008Z
LAST-MODIFIED:20251020T224011Z
UID:10008226-1763467200-1763470800@issbc.org
SUMMARY:Global Talent Loans Program Info Session - Online
DESCRIPTION:Global Talent Loans Program is part of the Foreign Credential Recognition (FCR) Project in Canada\, and we are the service provider for BC residents who are:\n\nPermanent Residents\n\n\n\nNaturalized Canadian Citizens\n\n\n\nProtected Person / Granted Refugee\n\n\n\n\n\nOur info session will cover the following: \n\nOverview of Global Talent Loans Program\n\n\n\nEligibility Criteria\n\n\n\nProgram Offerings\n\n\n\n\n\nOur info sessions are held regularly on Tuesdays and Thursdays at 12:00pm PDT
URL:https://issbc.org/event/global-talent-loans-program-info-session-online/2025-11-18/
LOCATION:Online – Zoom
CATEGORIES:Find Work
ATTACH;FMTTYPE=image/jpeg:https://issbc.org/wp-content/uploads/2025/07/GTL-Info-Session-Media-scaled.jpg
END:VEVENT
BEGIN:VEVENT
DTSTART;TZID=America/Vancouver:20251120T120000
DTEND;TZID=America/Vancouver:20251120T130000
DTSTAMP:20260419T231733
CREATED:20251020T224008Z
LAST-MODIFIED:20251020T224011Z
UID:10008227-1763640000-1763643600@issbc.org
SUMMARY:Global Talent Loans Program Info Session - Online
DESCRIPTION:Global Talent Loans Program is part of the Foreign Credential Recognition (FCR) Project in Canada\, and we are the service provider for BC residents who are:\n\nPermanent Residents\n\n\n\nNaturalized Canadian Citizens\n\n\n\nProtected Person / Granted Refugee\n\n\n\n\n\nOur info session will cover the following: \n\nOverview of Global Talent Loans Program\n\n\n\nEligibility Criteria\n\n\n\nProgram Offerings\n\n\n\n\n\nOur info sessions are held regularly on Tuesdays and Thursdays at 12:00pm PDT
URL:https://issbc.org/event/global-talent-loans-program-info-session-online/2025-11-20/
LOCATION:Online – Zoom
CATEGORIES:Find Work
ATTACH;FMTTYPE=image/jpeg:https://issbc.org/wp-content/uploads/2025/07/GTL-Info-Session-Media-scaled.jpg
END:VEVENT
BEGIN:VEVENT
DTSTART;TZID=America/Vancouver:20251125T120000
DTEND;TZID=America/Vancouver:20251125T130000
DTSTAMP:20260419T231733
CREATED:20251020T224008Z
LAST-MODIFIED:20251020T224011Z
UID:10000322-1764072000-1764075600@issbc.org
SUMMARY:Global Talent Loans Program Info Session - Online
DESCRIPTION:Global Talent Loans Program is part of the Foreign Credential Recognition (FCR) Project in Canada\, and we are the service provider for BC residents who are:\n\nPermanent Residents\n\n\n\nNaturalized Canadian Citizens\n\n\n\nProtected Person / Granted Refugee\n\n\n\n\n\nOur info session will cover the following: \n\nOverview of Global Talent Loans Program\n\n\n\nEligibility Criteria\n\n\n\nProgram Offerings\n\n\n\n\n\nOur info sessions are held regularly on Tuesdays and Thursdays at 12:00pm PDT
URL:https://issbc.org/event/global-talent-loans-program-info-session-online/2025-11-25/
LOCATION:Online – Zoom
CATEGORIES:Find Work
ATTACH;FMTTYPE=image/jpeg:https://issbc.org/wp-content/uploads/2025/07/GTL-Info-Session-Media-scaled.jpg
END:VEVENT
BEGIN:VEVENT
DTSTART;TZID=America/Vancouver:20251126T120000
DTEND;TZID=America/Vancouver:20251126T130000
DTSTAMP:20260419T231733
CREATED:20251113T183613Z
LAST-MODIFIED:20251113T183614Z
UID:10010796-1764158400-1764162000@issbc.org
SUMMARY:Communication at the Workplace - Global Talent Loans Program - Online
DESCRIPTION:Ready to Communicate with More Confidence at Work? \n\nJoin our free webinar “Communication at the Workplace” to enhance your workplace communication skills. \n\nWhat we’ll cover: \n\n~ Active Listening \n\n~ Zoom Tips \n\n~ Inclusive Language and various other tips for better workplace communication. \n\nDon’t miss this opportunity to gain valuable insights and build confidence in your workplace communication as you prepare for your professional journey in Canada. \n\nWe look forward to seeing you there!
URL:https://issbc.org/event/communication-at-the-workplace-webinar-global-talent-loans-program-online-2/
LOCATION:Online via Zoom
CATEGORIES:Find Work
ATTACH;FMTTYPE=image/jpeg:https://issbc.org/wp-content/uploads/2025/10/Career-Day_08-1-scaled.jpg
END:VEVENT
BEGIN:VEVENT
DTSTART;TZID=America/Vancouver:20251127T120000
DTEND;TZID=America/Vancouver:20251127T130000
DTSTAMP:20260419T231733
CREATED:20251020T224008Z
LAST-MODIFIED:20251020T224011Z
UID:10008033-1764244800-1764248400@issbc.org
SUMMARY:Global Talent Loans Program Info Session - Online
DESCRIPTION:Global Talent Loans Program is part of the Foreign Credential Recognition (FCR) Project in Canada\, and we are the service provider for BC residents who are:\n\nPermanent Residents\n\n\n\nNaturalized Canadian Citizens\n\n\n\nProtected Person / Granted Refugee\n\n\n\n\n\nOur info session will cover the following: \n\nOverview of Global Talent Loans Program\n\n\n\nEligibility Criteria\n\n\n\nProgram Offerings\n\n\n\n\n\nOur info sessions are held regularly on Tuesdays and Thursdays at 12:00pm PDT
URL:https://issbc.org/event/global-talent-loans-program-info-session-online/2025-11-27/
LOCATION:Online – Zoom
CATEGORIES:Find Work
ATTACH;FMTTYPE=image/jpeg:https://issbc.org/wp-content/uploads/2025/07/GTL-Info-Session-Media-scaled.jpg
END:VEVENT
END:VCALENDAR