BEGIN:VCALENDAR
VERSION:2.0
PRODID:-//Immigrant Services Society of BC (ISSofBC) - ECPv6.15.20//NONSGML v1.0//EN
CALSCALE:GREGORIAN
METHOD:PUBLISH
X-WR-CALNAME:Immigrant Services Society of BC (ISSofBC)
X-ORIGINAL-URL:https://issbc.org
X-WR-CALDESC:Events for Immigrant Services Society of BC (ISSofBC)
REFRESH-INTERVAL;VALUE=DURATION:PT1H
X-Robots-Tag:noindex
X-PUBLISHED-TTL:PT1H
BEGIN:VTIMEZONE
TZID:America/Vancouver
BEGIN:DAYLIGHT
TZOFFSETFROM:-0800
TZOFFSETTO:-0700
TZNAME:PDT
DTSTART:20240310T100000
END:DAYLIGHT
BEGIN:STANDARD
TZOFFSETFROM:-0700
TZOFFSETTO:-0800
TZNAME:PST
DTSTART:20241103T090000
END:STANDARD
BEGIN:DAYLIGHT
TZOFFSETFROM:-0800
TZOFFSETTO:-0700
TZNAME:PDT
DTSTART:20250309T100000
END:DAYLIGHT
BEGIN:STANDARD
TZOFFSETFROM:-0700
TZOFFSETTO:-0800
TZNAME:PST
DTSTART:20251102T090000
END:STANDARD
BEGIN:DAYLIGHT
TZOFFSETFROM:-0800
TZOFFSETTO:-0700
TZNAME:PDT
DTSTART:20260308T100000
END:DAYLIGHT
BEGIN:STANDARD
TZOFFSETFROM:-0700
TZOFFSETTO:-0800
TZNAME:PST
DTSTART:20261101T090000
END:STANDARD
END:VTIMEZONE
BEGIN:VEVENT
DTSTART;TZID=America/Vancouver:20250805T120000
DTEND;TZID=America/Vancouver:20250805T130000
DTSTAMP:20260423T002507
CREATED:20250609T172544Z
LAST-MODIFIED:20250609T172712Z
UID:10002310-1754395200-1754398800@issbc.org
SUMMARY:Career Paths for Skilled Immigrants Information Session
DESCRIPTION:Thank you for your interest in the Career Paths program!   \nISSofBC is a non-profit organization\, and Career Paths is an employment program designed to assist newcomers in reconnecting with their pre-arrival occupations/careers. The program is government-funded and comes at no cost to you. Here are some of the services we offer:    \n\nFUNDED Skills Training and Upgrading   \n\n\nACTION PLANNING based on your career goals   \n\n\nCREDENTIAL EVALUATION    \n\n\nOne-On-One JOB SEARCH Support   \n\n\nMENTORING OPPORTUNITIES   \n\n\nEMPLOYER OR INDUSTRY EVENTS FOR NETWORKING    \n\n\nEMPLOYER CONNECTIONS   \n\n\nPRACTICUM OPPORTUNITIES (can include RELATED/ALIGNED OCCUPATIONS)   \n\nThank you for your interest in participating in the Career Paths Information Session at ISSofBC! \nAs a skilled immigrant\, this is your opportunity to learn how Career Paths can assist you with returning to your pre-arrival profession. \nIn this session you will learn more information on our services\, such as: \n– Credential evaluations and obtaining BC licenses \n– Regulatory body and association memberships \n– Skills and course funding \n– Career planning and job search support \n– Work placement opportunities \n– Connections to BC employers \n– Access to BC Mentors \nThank you for your interest and look forward to meeting you soon! \nCareer Paths Team
URL:https://issbc.org/event/career-paths-for-skilled-immigrants-information-session-3/2025-08-05/
CATEGORIES:Find Work
ATTACH;FMTTYPE=image/jpeg:https://issbc.org/wp-content/uploads/2025/05/New-West-info-Session-.jpg
ORGANIZER;CN="career paths":MAILTO:careerpaths@issbc.org
END:VEVENT
BEGIN:VEVENT
DTSTART;TZID=America/Vancouver:20250805T120000
DTEND;TZID=America/Vancouver:20250805T130000
DTSTAMP:20260423T002507
CREATED:20250729T224240Z
LAST-MODIFIED:20251020T223908Z
UID:10008194-1754395200-1754398800@issbc.org
SUMMARY:Global Talent Loans Program Info Session - Online
DESCRIPTION:Global Talent Loans Program is part of the Foreign Credential Recognition (FCR) Project in Canada\, and we are the service provider for BC residents who are:\n\nPermanent Residents\n\n\n\nNaturalized Canadian Citizens\n\n\n\nProtected Person / Granted Refugee\n\n\n\n\n\nOur info session will cover the following: \n\nOverview of Global Talent Loans Program\n\n\n\nEligibility Criteria\n\n\n\nProgram Offerings\n\n\n\n\n\nOur info sessions are held regularly on Tuesdays and Thursdays at 12:00pm PDT
URL:https://issbc.org/event/global-talent-loans-program-info-session-3/2025-08-05/
LOCATION:Online – Zoom
CATEGORIES:Find Work
ATTACH;FMTTYPE=image/jpeg:https://issbc.org/wp-content/uploads/2025/07/GTL-Info-Session-Media-scaled.jpg
END:VEVENT
BEGIN:VEVENT
DTSTART;TZID=America/Vancouver:20250805T120000
DTEND;TZID=America/Vancouver:20250805T130000
DTSTAMP:20260423T002507
CREATED:20251020T224008Z
LAST-MODIFIED:20251020T224011Z
UID:10010626-1754395200-1754398800@issbc.org
SUMMARY:Global Talent Loans Program Info Session - Online
DESCRIPTION:Global Talent Loans Program is part of the Foreign Credential Recognition (FCR) Project in Canada\, and we are the service provider for BC residents who are:\n\nPermanent Residents\n\n\n\nNaturalized Canadian Citizens\n\n\n\nProtected Person / Granted Refugee\n\n\n\n\n\nOur info session will cover the following: \n\nOverview of Global Talent Loans Program\n\n\n\nEligibility Criteria\n\n\n\nProgram Offerings\n\n\n\n\n\nOur info sessions are held regularly on Tuesdays and Thursdays at 12:00pm PDT
URL:https://issbc.org/event/global-talent-loans-program-info-session-online/2025-08-05/
LOCATION:Online – Zoom
CATEGORIES:Find Work
ATTACH;FMTTYPE=image/jpeg:https://issbc.org/wp-content/uploads/2025/07/GTL-Info-Session-Media-scaled.jpg
END:VEVENT
BEGIN:VEVENT
DTSTART;TZID=America/Vancouver:20250807T120000
DTEND;TZID=America/Vancouver:20250807T130000
DTSTAMP:20260423T002507
CREATED:20250729T224240Z
LAST-MODIFIED:20251020T223908Z
UID:10008025-1754568000-1754571600@issbc.org
SUMMARY:Global Talent Loans Program Info Session - Online
DESCRIPTION:Global Talent Loans Program is part of the Foreign Credential Recognition (FCR) Project in Canada\, and we are the service provider for BC residents who are:\n\nPermanent Residents\n\n\n\nNaturalized Canadian Citizens\n\n\n\nProtected Person / Granted Refugee\n\n\n\n\n\nOur info session will cover the following: \n\nOverview of Global Talent Loans Program\n\n\n\nEligibility Criteria\n\n\n\nProgram Offerings\n\n\n\n\n\nOur info sessions are held regularly on Tuesdays and Thursdays at 12:00pm PDT
URL:https://issbc.org/event/global-talent-loans-program-info-session-3/2025-08-07/
LOCATION:Online – Zoom
CATEGORIES:Find Work
ATTACH;FMTTYPE=image/jpeg:https://issbc.org/wp-content/uploads/2025/07/GTL-Info-Session-Media-scaled.jpg
END:VEVENT
BEGIN:VEVENT
DTSTART;TZID=America/Vancouver:20250807T120000
DTEND;TZID=America/Vancouver:20250807T130000
DTSTAMP:20260423T002507
CREATED:20251020T224008Z
LAST-MODIFIED:20251020T224011Z
UID:10010627-1754568000-1754571600@issbc.org
SUMMARY:Global Talent Loans Program Info Session - Online
DESCRIPTION:Global Talent Loans Program is part of the Foreign Credential Recognition (FCR) Project in Canada\, and we are the service provider for BC residents who are:\n\nPermanent Residents\n\n\n\nNaturalized Canadian Citizens\n\n\n\nProtected Person / Granted Refugee\n\n\n\n\n\nOur info session will cover the following: \n\nOverview of Global Talent Loans Program\n\n\n\nEligibility Criteria\n\n\n\nProgram Offerings\n\n\n\n\n\nOur info sessions are held regularly on Tuesdays and Thursdays at 12:00pm PDT
URL:https://issbc.org/event/global-talent-loans-program-info-session-online/2025-08-07/
LOCATION:Online – Zoom
CATEGORIES:Find Work
ATTACH;FMTTYPE=image/jpeg:https://issbc.org/wp-content/uploads/2025/07/GTL-Info-Session-Media-scaled.jpg
END:VEVENT
BEGIN:VEVENT
DTSTART;TZID=America/Vancouver:20250812T120000
DTEND;TZID=America/Vancouver:20250812T130000
DTSTAMP:20260423T002507
CREATED:20250609T172544Z
LAST-MODIFIED:20250609T172712Z
UID:10002311-1755000000-1755003600@issbc.org
SUMMARY:Career Paths for Skilled Immigrants Information Session
DESCRIPTION:Thank you for your interest in the Career Paths program!   \nISSofBC is a non-profit organization\, and Career Paths is an employment program designed to assist newcomers in reconnecting with their pre-arrival occupations/careers. The program is government-funded and comes at no cost to you. Here are some of the services we offer:    \n\nFUNDED Skills Training and Upgrading   \n\n\nACTION PLANNING based on your career goals   \n\n\nCREDENTIAL EVALUATION    \n\n\nOne-On-One JOB SEARCH Support   \n\n\nMENTORING OPPORTUNITIES   \n\n\nEMPLOYER OR INDUSTRY EVENTS FOR NETWORKING    \n\n\nEMPLOYER CONNECTIONS   \n\n\nPRACTICUM OPPORTUNITIES (can include RELATED/ALIGNED OCCUPATIONS)   \n\nThank you for your interest in participating in the Career Paths Information Session at ISSofBC! \nAs a skilled immigrant\, this is your opportunity to learn how Career Paths can assist you with returning to your pre-arrival profession. \nIn this session you will learn more information on our services\, such as: \n– Credential evaluations and obtaining BC licenses \n– Regulatory body and association memberships \n– Skills and course funding \n– Career planning and job search support \n– Work placement opportunities \n– Connections to BC employers \n– Access to BC Mentors \nThank you for your interest and look forward to meeting you soon! \nCareer Paths Team
URL:https://issbc.org/event/career-paths-for-skilled-immigrants-information-session-3/2025-08-12/
CATEGORIES:Find Work
ATTACH;FMTTYPE=image/jpeg:https://issbc.org/wp-content/uploads/2025/05/New-West-info-Session-.jpg
ORGANIZER;CN="career paths":MAILTO:careerpaths@issbc.org
END:VEVENT
BEGIN:VEVENT
DTSTART;TZID=America/Vancouver:20250812T120000
DTEND;TZID=America/Vancouver:20250812T130000
DTSTAMP:20260423T002507
CREATED:20250729T224240Z
LAST-MODIFIED:20251020T223908Z
UID:10008213-1755000000-1755003600@issbc.org
SUMMARY:Global Talent Loans Program Info Session - Online
DESCRIPTION:Global Talent Loans Program is part of the Foreign Credential Recognition (FCR) Project in Canada\, and we are the service provider for BC residents who are:\n\nPermanent Residents\n\n\n\nNaturalized Canadian Citizens\n\n\n\nProtected Person / Granted Refugee\n\n\n\n\n\nOur info session will cover the following: \n\nOverview of Global Talent Loans Program\n\n\n\nEligibility Criteria\n\n\n\nProgram Offerings\n\n\n\n\n\nOur info sessions are held regularly on Tuesdays and Thursdays at 12:00pm PDT
URL:https://issbc.org/event/global-talent-loans-program-info-session-3/2025-08-12/
LOCATION:Online – Zoom
CATEGORIES:Find Work
ATTACH;FMTTYPE=image/jpeg:https://issbc.org/wp-content/uploads/2025/07/GTL-Info-Session-Media-scaled.jpg
END:VEVENT
BEGIN:VEVENT
DTSTART;TZID=America/Vancouver:20250812T120000
DTEND;TZID=America/Vancouver:20250812T130000
DTSTAMP:20260423T002507
CREATED:20251020T224008Z
LAST-MODIFIED:20251020T224011Z
UID:10010628-1755000000-1755003600@issbc.org
SUMMARY:Global Talent Loans Program Info Session - Online
DESCRIPTION:Global Talent Loans Program is part of the Foreign Credential Recognition (FCR) Project in Canada\, and we are the service provider for BC residents who are:\n\nPermanent Residents\n\n\n\nNaturalized Canadian Citizens\n\n\n\nProtected Person / Granted Refugee\n\n\n\n\n\nOur info session will cover the following: \n\nOverview of Global Talent Loans Program\n\n\n\nEligibility Criteria\n\n\n\nProgram Offerings\n\n\n\n\n\nOur info sessions are held regularly on Tuesdays and Thursdays at 12:00pm PDT
URL:https://issbc.org/event/global-talent-loans-program-info-session-online/2025-08-12/
LOCATION:Online – Zoom
CATEGORIES:Find Work
ATTACH;FMTTYPE=image/jpeg:https://issbc.org/wp-content/uploads/2025/07/GTL-Info-Session-Media-scaled.jpg
END:VEVENT
BEGIN:VEVENT
DTSTART;TZID=America/Vancouver:20250814T120000
DTEND;TZID=America/Vancouver:20250814T130000
DTSTAMP:20260423T002507
CREATED:20250729T224240Z
LAST-MODIFIED:20251020T223908Z
UID:10008214-1755172800-1755176400@issbc.org
SUMMARY:Global Talent Loans Program Info Session - Online
DESCRIPTION:Global Talent Loans Program is part of the Foreign Credential Recognition (FCR) Project in Canada\, and we are the service provider for BC residents who are:\n\nPermanent Residents\n\n\n\nNaturalized Canadian Citizens\n\n\n\nProtected Person / Granted Refugee\n\n\n\n\n\nOur info session will cover the following: \n\nOverview of Global Talent Loans Program\n\n\n\nEligibility Criteria\n\n\n\nProgram Offerings\n\n\n\n\n\nOur info sessions are held regularly on Tuesdays and Thursdays at 12:00pm PDT
URL:https://issbc.org/event/global-talent-loans-program-info-session-3/2025-08-14/
LOCATION:Online – Zoom
CATEGORIES:Find Work
ATTACH;FMTTYPE=image/jpeg:https://issbc.org/wp-content/uploads/2025/07/GTL-Info-Session-Media-scaled.jpg
END:VEVENT
BEGIN:VEVENT
DTSTART;TZID=America/Vancouver:20250814T120000
DTEND;TZID=America/Vancouver:20250814T130000
DTSTAMP:20260423T002508
CREATED:20251020T224008Z
LAST-MODIFIED:20251020T224011Z
UID:10010629-1755172800-1755176400@issbc.org
SUMMARY:Global Talent Loans Program Info Session - Online
DESCRIPTION:Global Talent Loans Program is part of the Foreign Credential Recognition (FCR) Project in Canada\, and we are the service provider for BC residents who are:\n\nPermanent Residents\n\n\n\nNaturalized Canadian Citizens\n\n\n\nProtected Person / Granted Refugee\n\n\n\n\n\nOur info session will cover the following: \n\nOverview of Global Talent Loans Program\n\n\n\nEligibility Criteria\n\n\n\nProgram Offerings\n\n\n\n\n\nOur info sessions are held regularly on Tuesdays and Thursdays at 12:00pm PDT
URL:https://issbc.org/event/global-talent-loans-program-info-session-online/2025-08-14/
LOCATION:Online – Zoom
CATEGORIES:Find Work
ATTACH;FMTTYPE=image/jpeg:https://issbc.org/wp-content/uploads/2025/07/GTL-Info-Session-Media-scaled.jpg
END:VEVENT
BEGIN:VEVENT
DTSTART;TZID=America/Vancouver:20250814T173000
DTEND;TZID=America/Vancouver:20250814T190000
DTSTAMP:20260423T002508
CREATED:20250806T210415Z
LAST-MODIFIED:20250806T210653Z
UID:10008718-1755192600-1755198000@issbc.org
SUMMARY:Discover Cybersecurity and Artificial Intelligence Certificate Programs - Global Talent Loans Program - Online
DESCRIPTION:Thinking about starting or advancing your career in tech? You’re invited to a free online info session with Cornerstone Community College to explore their Cybersecurity and Artificial Intelligence Certificate Programs—designed to help you gain in-demand skills and real job prospects. \n\nWhat to Expect:✅ Program overview✅ Duration & format✅ Tuition & funding options✅ In-demand tech skills✅ Career pathways and job outlook \n\nWhether you’re new to tech\, switching careers\, or simply exploring your options\, this session is your chance to get all your questions answered—live! \n\nSpots are limited—save yours today!
URL:https://issbc.org/event/discover-cybersecurity-and-artificial-intelligence-certificate-programs-global-talent-loans-program-online/
LOCATION:Online via Zoom
CATEGORIES:Find Work
ATTACH;FMTTYPE=image/jpeg:https://issbc.org/wp-content/uploads/2025/08/1-student-professional-conversation-education-team-students-1078565-pxhere.com-1-scaled.jpg
END:VEVENT
BEGIN:VEVENT
DTSTART;TZID=America/Vancouver:20250818T170000
DTEND;TZID=America/Vancouver:20250818T180000
DTSTAMP:20260423T002508
CREATED:20250807T224800Z
LAST-MODIFIED:20250807T224801Z
UID:10008729-1755536400-1755540000@issbc.org
SUMMARY:Career in Real Estate with BC Financial Services Authority - Global Talent Loans Program - Online
DESCRIPTION:Interested in a career in real estate? \n\nJoin our free webinar with BC Financial Services Authority to learn how to become a licensed real estate professional in British Columbia. \n\nWhat we’ll cover: \n\n\n	BCFSA’s Role in Licensing\n\n	Eligibility Requirements\n\n	Good Reputation and Suitability Guidelines\n\n	Education and Exams\n\n	Application Process\n\n	Fees and Timelines\n\n	Reciprocity\n\n	Post-Licensing Requirements/Compliance\n\n\nWe look forward to seeing you there!
URL:https://issbc.org/event/career-in-real-estate-with-bc-financial-services-authority-global-talent-loans-program-online/
LOCATION:Online via Zoom
CATEGORIES:Find Work
ATTACH;FMTTYPE=image/jpeg:https://issbc.org/wp-content/uploads/2025/08/1-student-professional-conversation-education-team-students-1078565-pxhere.com-1-scaled.jpg
END:VEVENT
BEGIN:VEVENT
DTSTART;TZID=America/Vancouver:20250819T120000
DTEND;TZID=America/Vancouver:20250819T130000
DTSTAMP:20260423T002508
CREATED:20250609T172544Z
LAST-MODIFIED:20250609T172712Z
UID:10002312-1755604800-1755608400@issbc.org
SUMMARY:Career Paths for Skilled Immigrants Information Session
DESCRIPTION:Thank you for your interest in the Career Paths program!   \nISSofBC is a non-profit organization\, and Career Paths is an employment program designed to assist newcomers in reconnecting with their pre-arrival occupations/careers. The program is government-funded and comes at no cost to you. Here are some of the services we offer:    \n\nFUNDED Skills Training and Upgrading   \n\n\nACTION PLANNING based on your career goals   \n\n\nCREDENTIAL EVALUATION    \n\n\nOne-On-One JOB SEARCH Support   \n\n\nMENTORING OPPORTUNITIES   \n\n\nEMPLOYER OR INDUSTRY EVENTS FOR NETWORKING    \n\n\nEMPLOYER CONNECTIONS   \n\n\nPRACTICUM OPPORTUNITIES (can include RELATED/ALIGNED OCCUPATIONS)   \n\nThank you for your interest in participating in the Career Paths Information Session at ISSofBC! \nAs a skilled immigrant\, this is your opportunity to learn how Career Paths can assist you with returning to your pre-arrival profession. \nIn this session you will learn more information on our services\, such as: \n– Credential evaluations and obtaining BC licenses \n– Regulatory body and association memberships \n– Skills and course funding \n– Career planning and job search support \n– Work placement opportunities \n– Connections to BC employers \n– Access to BC Mentors \nThank you for your interest and look forward to meeting you soon! \nCareer Paths Team
URL:https://issbc.org/event/career-paths-for-skilled-immigrants-information-session-3/2025-08-19/
CATEGORIES:Find Work
ATTACH;FMTTYPE=image/jpeg:https://issbc.org/wp-content/uploads/2025/05/New-West-info-Session-.jpg
ORGANIZER;CN="career paths":MAILTO:careerpaths@issbc.org
END:VEVENT
BEGIN:VEVENT
DTSTART;TZID=America/Vancouver:20250819T120000
DTEND;TZID=America/Vancouver:20250819T130000
DTSTAMP:20260423T002508
CREATED:20250729T224240Z
LAST-MODIFIED:20251020T223908Z
UID:10000308-1755604800-1755608400@issbc.org
SUMMARY:Global Talent Loans Program Info Session - Online
DESCRIPTION:Global Talent Loans Program is part of the Foreign Credential Recognition (FCR) Project in Canada\, and we are the service provider for BC residents who are:\n\nPermanent Residents\n\n\n\nNaturalized Canadian Citizens\n\n\n\nProtected Person / Granted Refugee\n\n\n\n\n\nOur info session will cover the following: \n\nOverview of Global Talent Loans Program\n\n\n\nEligibility Criteria\n\n\n\nProgram Offerings\n\n\n\n\n\nOur info sessions are held regularly on Tuesdays and Thursdays at 12:00pm PDT
URL:https://issbc.org/event/global-talent-loans-program-info-session-3/2025-08-19/
LOCATION:Online – Zoom
CATEGORIES:Find Work
ATTACH;FMTTYPE=image/jpeg:https://issbc.org/wp-content/uploads/2025/07/GTL-Info-Session-Media-scaled.jpg
END:VEVENT
BEGIN:VEVENT
DTSTART;TZID=America/Vancouver:20250819T120000
DTEND;TZID=America/Vancouver:20250819T130000
DTSTAMP:20260423T002508
CREATED:20251020T224008Z
LAST-MODIFIED:20251020T224011Z
UID:10010630-1755604800-1755608400@issbc.org
SUMMARY:Global Talent Loans Program Info Session - Online
DESCRIPTION:Global Talent Loans Program is part of the Foreign Credential Recognition (FCR) Project in Canada\, and we are the service provider for BC residents who are:\n\nPermanent Residents\n\n\n\nNaturalized Canadian Citizens\n\n\n\nProtected Person / Granted Refugee\n\n\n\n\n\nOur info session will cover the following: \n\nOverview of Global Talent Loans Program\n\n\n\nEligibility Criteria\n\n\n\nProgram Offerings\n\n\n\n\n\nOur info sessions are held regularly on Tuesdays and Thursdays at 12:00pm PDT
URL:https://issbc.org/event/global-talent-loans-program-info-session-online/2025-08-19/
LOCATION:Online – Zoom
CATEGORIES:Find Work
ATTACH;FMTTYPE=image/jpeg:https://issbc.org/wp-content/uploads/2025/07/GTL-Info-Session-Media-scaled.jpg
END:VEVENT
BEGIN:VEVENT
DTSTART;TZID=America/Vancouver:20250819T173000
DTEND;TZID=America/Vancouver:20250819T183000
DTSTAMP:20260423T002508
CREATED:20250808T071249Z
LAST-MODIFIED:20250808T071251Z
UID:10008731-1755624600-1755628200@issbc.org
SUMMARY:Exploring TESOL Leadership Program at Language and Career College - Global Talent Loans Program - Online
DESCRIPTION:Are you passionate about teaching and interested in building a career in English language education? \n\nJoin us for a free online info session to learn about the TESOL Leadership Program at Language and Career College (LCC)! \n\nWhether you’re looking to teach in Canada or explore opportunities abroad\, this session will give you the inside scoop on: \n\n✅ Flexible online class schedules✅ Hands-on practicum experience✅ TESOL certification pathways recognized across Canada \n\nTake the first step toward an exciting teaching journey. We hope to see you there!
URL:https://issbc.org/event/exploring-tesol-leadership-program-at-language-and-career-college-global-talent-loans-program-online/
LOCATION:Online via Zoom
CATEGORIES:Find Work
ATTACH;FMTTYPE=image/jpeg:https://issbc.org/wp-content/uploads/2025/08/1-student-professional-conversation-education-team-students-1078565-pxhere.com-1-scaled.jpg
END:VEVENT
BEGIN:VEVENT
DTSTART;TZID=America/Vancouver:20250821T120000
DTEND;TZID=America/Vancouver:20250821T130000
DTSTAMP:20260423T002508
CREATED:20250729T224240Z
LAST-MODIFIED:20251020T223908Z
UID:10008026-1755777600-1755781200@issbc.org
SUMMARY:Global Talent Loans Program Info Session - Online
DESCRIPTION:Global Talent Loans Program is part of the Foreign Credential Recognition (FCR) Project in Canada\, and we are the service provider for BC residents who are:\n\nPermanent Residents\n\n\n\nNaturalized Canadian Citizens\n\n\n\nProtected Person / Granted Refugee\n\n\n\n\n\nOur info session will cover the following: \n\nOverview of Global Talent Loans Program\n\n\n\nEligibility Criteria\n\n\n\nProgram Offerings\n\n\n\n\n\nOur info sessions are held regularly on Tuesdays and Thursdays at 12:00pm PDT
URL:https://issbc.org/event/global-talent-loans-program-info-session-3/2025-08-21/
LOCATION:Online – Zoom
CATEGORIES:Find Work
ATTACH;FMTTYPE=image/jpeg:https://issbc.org/wp-content/uploads/2025/07/GTL-Info-Session-Media-scaled.jpg
END:VEVENT
BEGIN:VEVENT
DTSTART;TZID=America/Vancouver:20250821T120000
DTEND;TZID=America/Vancouver:20250821T130000
DTSTAMP:20260423T002508
CREATED:20251020T224008Z
LAST-MODIFIED:20251020T224011Z
UID:10010631-1755777600-1755781200@issbc.org
SUMMARY:Global Talent Loans Program Info Session - Online
DESCRIPTION:Global Talent Loans Program is part of the Foreign Credential Recognition (FCR) Project in Canada\, and we are the service provider for BC residents who are:\n\nPermanent Residents\n\n\n\nNaturalized Canadian Citizens\n\n\n\nProtected Person / Granted Refugee\n\n\n\n\n\nOur info session will cover the following: \n\nOverview of Global Talent Loans Program\n\n\n\nEligibility Criteria\n\n\n\nProgram Offerings\n\n\n\n\n\nOur info sessions are held regularly on Tuesdays and Thursdays at 12:00pm PDT
URL:https://issbc.org/event/global-talent-loans-program-info-session-online/2025-08-21/
LOCATION:Online – Zoom
CATEGORIES:Find Work
ATTACH;FMTTYPE=image/jpeg:https://issbc.org/wp-content/uploads/2025/07/GTL-Info-Session-Media-scaled.jpg
END:VEVENT
BEGIN:VEVENT
DTSTART;TZID=America/Vancouver:20250826T120000
DTEND;TZID=America/Vancouver:20250826T130000
DTSTAMP:20260423T002508
CREATED:20250609T172544Z
LAST-MODIFIED:20250609T172712Z
UID:10002313-1756209600-1756213200@issbc.org
SUMMARY:Career Paths for Skilled Immigrants Information Session
DESCRIPTION:Thank you for your interest in the Career Paths program!   \nISSofBC is a non-profit organization\, and Career Paths is an employment program designed to assist newcomers in reconnecting with their pre-arrival occupations/careers. The program is government-funded and comes at no cost to you. Here are some of the services we offer:    \n\nFUNDED Skills Training and Upgrading   \n\n\nACTION PLANNING based on your career goals   \n\n\nCREDENTIAL EVALUATION    \n\n\nOne-On-One JOB SEARCH Support   \n\n\nMENTORING OPPORTUNITIES   \n\n\nEMPLOYER OR INDUSTRY EVENTS FOR NETWORKING    \n\n\nEMPLOYER CONNECTIONS   \n\n\nPRACTICUM OPPORTUNITIES (can include RELATED/ALIGNED OCCUPATIONS)   \n\nThank you for your interest in participating in the Career Paths Information Session at ISSofBC! \nAs a skilled immigrant\, this is your opportunity to learn how Career Paths can assist you with returning to your pre-arrival profession. \nIn this session you will learn more information on our services\, such as: \n– Credential evaluations and obtaining BC licenses \n– Regulatory body and association memberships \n– Skills and course funding \n– Career planning and job search support \n– Work placement opportunities \n– Connections to BC employers \n– Access to BC Mentors \nThank you for your interest and look forward to meeting you soon! \nCareer Paths Team
URL:https://issbc.org/event/career-paths-for-skilled-immigrants-information-session-3/2025-08-26/
CATEGORIES:Find Work
ATTACH;FMTTYPE=image/jpeg:https://issbc.org/wp-content/uploads/2025/05/New-West-info-Session-.jpg
ORGANIZER;CN="career paths":MAILTO:careerpaths@issbc.org
END:VEVENT
BEGIN:VEVENT
DTSTART;TZID=America/Vancouver:20250826T120000
DTEND;TZID=America/Vancouver:20250826T130000
DTSTAMP:20260423T002508
CREATED:20250729T224240Z
LAST-MODIFIED:20251020T223908Z
UID:10008215-1756209600-1756213200@issbc.org
SUMMARY:Global Talent Loans Program Info Session - Online
DESCRIPTION:Global Talent Loans Program is part of the Foreign Credential Recognition (FCR) Project in Canada\, and we are the service provider for BC residents who are:\n\nPermanent Residents\n\n\n\nNaturalized Canadian Citizens\n\n\n\nProtected Person / Granted Refugee\n\n\n\n\n\nOur info session will cover the following: \n\nOverview of Global Talent Loans Program\n\n\n\nEligibility Criteria\n\n\n\nProgram Offerings\n\n\n\n\n\nOur info sessions are held regularly on Tuesdays and Thursdays at 12:00pm PDT
URL:https://issbc.org/event/global-talent-loans-program-info-session-3/2025-08-26/
LOCATION:Online – Zoom
CATEGORIES:Find Work
ATTACH;FMTTYPE=image/jpeg:https://issbc.org/wp-content/uploads/2025/07/GTL-Info-Session-Media-scaled.jpg
END:VEVENT
BEGIN:VEVENT
DTSTART;TZID=America/Vancouver:20250826T120000
DTEND;TZID=America/Vancouver:20250826T130000
DTSTAMP:20260423T002508
CREATED:20251020T224008Z
LAST-MODIFIED:20251020T224011Z
UID:10010632-1756209600-1756213200@issbc.org
SUMMARY:Global Talent Loans Program Info Session - Online
DESCRIPTION:Global Talent Loans Program is part of the Foreign Credential Recognition (FCR) Project in Canada\, and we are the service provider for BC residents who are:\n\nPermanent Residents\n\n\n\nNaturalized Canadian Citizens\n\n\n\nProtected Person / Granted Refugee\n\n\n\n\n\nOur info session will cover the following: \n\nOverview of Global Talent Loans Program\n\n\n\nEligibility Criteria\n\n\n\nProgram Offerings\n\n\n\n\n\nOur info sessions are held regularly on Tuesdays and Thursdays at 12:00pm PDT
URL:https://issbc.org/event/global-talent-loans-program-info-session-online/2025-08-26/
LOCATION:Online – Zoom
CATEGORIES:Find Work
ATTACH;FMTTYPE=image/jpeg:https://issbc.org/wp-content/uploads/2025/07/GTL-Info-Session-Media-scaled.jpg
END:VEVENT
BEGIN:VEVENT
DTSTART;TZID=America/Vancouver:20250828T120000
DTEND;TZID=America/Vancouver:20250828T130000
DTSTAMP:20260423T002508
CREATED:20250729T224240Z
LAST-MODIFIED:20251020T223908Z
UID:10008216-1756382400-1756386000@issbc.org
SUMMARY:Global Talent Loans Program Info Session - Online
DESCRIPTION:Global Talent Loans Program is part of the Foreign Credential Recognition (FCR) Project in Canada\, and we are the service provider for BC residents who are:\n\nPermanent Residents\n\n\n\nNaturalized Canadian Citizens\n\n\n\nProtected Person / Granted Refugee\n\n\n\n\n\nOur info session will cover the following: \n\nOverview of Global Talent Loans Program\n\n\n\nEligibility Criteria\n\n\n\nProgram Offerings\n\n\n\n\n\nOur info sessions are held regularly on Tuesdays and Thursdays at 12:00pm PDT
URL:https://issbc.org/event/global-talent-loans-program-info-session-3/2025-08-28/
LOCATION:Online – Zoom
CATEGORIES:Find Work
ATTACH;FMTTYPE=image/jpeg:https://issbc.org/wp-content/uploads/2025/07/GTL-Info-Session-Media-scaled.jpg
END:VEVENT
BEGIN:VEVENT
DTSTART;TZID=America/Vancouver:20250828T120000
DTEND;TZID=America/Vancouver:20250828T130000
DTSTAMP:20260423T002508
CREATED:20251020T224008Z
LAST-MODIFIED:20251020T224011Z
UID:10010633-1756382400-1756386000@issbc.org
SUMMARY:Global Talent Loans Program Info Session - Online
DESCRIPTION:Global Talent Loans Program is part of the Foreign Credential Recognition (FCR) Project in Canada\, and we are the service provider for BC residents who are:\n\nPermanent Residents\n\n\n\nNaturalized Canadian Citizens\n\n\n\nProtected Person / Granted Refugee\n\n\n\n\n\nOur info session will cover the following: \n\nOverview of Global Talent Loans Program\n\n\n\nEligibility Criteria\n\n\n\nProgram Offerings\n\n\n\n\n\nOur info sessions are held regularly on Tuesdays and Thursdays at 12:00pm PDT
URL:https://issbc.org/event/global-talent-loans-program-info-session-online/2025-08-28/
LOCATION:Online – Zoom
CATEGORIES:Find Work
ATTACH;FMTTYPE=image/jpeg:https://issbc.org/wp-content/uploads/2025/07/GTL-Info-Session-Media-scaled.jpg
END:VEVENT
END:VCALENDAR