BEGIN:VCALENDAR
VERSION:2.0
PRODID:-//Immigrant Services Society of BC (ISSofBC) - ECPv6.15.20//NONSGML v1.0//EN
CALSCALE:GREGORIAN
METHOD:PUBLISH
X-WR-CALNAME:Immigrant Services Society of BC (ISSofBC)
X-ORIGINAL-URL:https://issbc.org
X-WR-CALDESC:Events for Immigrant Services Society of BC (ISSofBC)
REFRESH-INTERVAL;VALUE=DURATION:PT1H
X-Robots-Tag:noindex
X-PUBLISHED-TTL:PT1H
BEGIN:VTIMEZONE
TZID:America/Vancouver
BEGIN:DAYLIGHT
TZOFFSETFROM:-0800
TZOFFSETTO:-0700
TZNAME:PDT
DTSTART:20240310T100000
END:DAYLIGHT
BEGIN:STANDARD
TZOFFSETFROM:-0700
TZOFFSETTO:-0800
TZNAME:PST
DTSTART:20241103T090000
END:STANDARD
BEGIN:DAYLIGHT
TZOFFSETFROM:-0800
TZOFFSETTO:-0700
TZNAME:PDT
DTSTART:20250309T100000
END:DAYLIGHT
BEGIN:STANDARD
TZOFFSETFROM:-0700
TZOFFSETTO:-0800
TZNAME:PST
DTSTART:20251102T090000
END:STANDARD
BEGIN:DAYLIGHT
TZOFFSETFROM:-0800
TZOFFSETTO:-0700
TZNAME:PDT
DTSTART:20260308T100000
END:DAYLIGHT
BEGIN:STANDARD
TZOFFSETFROM:-0700
TZOFFSETTO:-0800
TZNAME:PST
DTSTART:20261101T090000
END:STANDARD
END:VTIMEZONE
BEGIN:VEVENT
DTSTART;TZID=America/Vancouver:20250912T130000
DTEND;TZID=America/Vancouver:20250912T150000
DTSTAMP:20260423T015349
CREATED:20250905T234351Z
LAST-MODIFIED:20250905T234352Z
UID:10009371-1757682000-1757689200@issbc.org
SUMMARY:Intersectionality Awareness for a Diverse Society Workshop - BC NSP & Safe Haven Program - Online
DESCRIPTION:Intersectionality Awareness for a Diverse SocietyWant to better understand how our diverse identities shape our experiences at work and in our communities?Join our workshop designed to help you explore the concept of intersectionality\, gain tools for promoting equity and inclusion\, and learn how to embrace diversity as a strength in your personal and professional life. \n\nThis session will guide you through understanding how overlapping identities—such as gender\, culture\, race\, language\, and ability—impact employment experiences\, workplace dynamics\, and community belonging. \n\nIn this session\, you’ll learn how to:• Understand what intersectionality means and why it matters• Recognize how diverse identities shape career and life experiences• Address barriers related to culture\, identity\, and inclusion in the workplace• Promote equity and inclusion in professional and community settings• Build empathy and cultural awareness to strengthen relationships• Leverage your unique identity as an asset in your career journey• Develop strategies to foster belonging and collaboration in diverse teams \n\nJoin us to learn how embracing intersectionality can strengthen your career success\, enrich your community connections\, and promote a more inclusive society. \n\nWe’re here to support you in navigating diversity with confidence and creating spaces where everyone can thrive.
URL:https://issbc.org/event/intersectionality-awareness-for-a-diverse-society-workshop-bc-nsp-safe-haven-program-online/
CATEGORIES:Find Work
ATTACH;FMTTYPE=image/jpeg:https://issbc.org/wp-content/uploads/2025/09/portrait-person-autism-day-awareness-collage-style-scaled.jpg
END:VEVENT
END:VCALENDAR