BEGIN:VCALENDAR
VERSION:2.0
PRODID:-//Immigrant Services Society of BC (ISSofBC) - ECPv6.15.20//NONSGML v1.0//EN
CALSCALE:GREGORIAN
METHOD:PUBLISH
X-WR-CALNAME:Immigrant Services Society of BC (ISSofBC)
X-ORIGINAL-URL:https://issbc.org
X-WR-CALDESC:Events for Immigrant Services Society of BC (ISSofBC)
REFRESH-INTERVAL;VALUE=DURATION:PT1H
X-Robots-Tag:noindex
X-PUBLISHED-TTL:PT1H
BEGIN:VTIMEZONE
TZID:America/Vancouver
BEGIN:DAYLIGHT
TZOFFSETFROM:-0800
TZOFFSETTO:-0700
TZNAME:PDT
DTSTART:20240310T100000
END:DAYLIGHT
BEGIN:STANDARD
TZOFFSETFROM:-0700
TZOFFSETTO:-0800
TZNAME:PST
DTSTART:20241103T090000
END:STANDARD
BEGIN:DAYLIGHT
TZOFFSETFROM:-0800
TZOFFSETTO:-0700
TZNAME:PDT
DTSTART:20250309T100000
END:DAYLIGHT
BEGIN:STANDARD
TZOFFSETFROM:-0700
TZOFFSETTO:-0800
TZNAME:PST
DTSTART:20251102T090000
END:STANDARD
BEGIN:DAYLIGHT
TZOFFSETFROM:-0800
TZOFFSETTO:-0700
TZNAME:PDT
DTSTART:20260308T100000
END:DAYLIGHT
BEGIN:STANDARD
TZOFFSETFROM:-0700
TZOFFSETTO:-0800
TZNAME:PST
DTSTART:20261101T090000
END:STANDARD
END:VTIMEZONE
BEGIN:VEVENT
DTSTART;TZID=America/Vancouver:20250908T130000
DTEND;TZID=America/Vancouver:20250908T150000
DTSTAMP:20260422T120023
CREATED:20250829T235510Z
LAST-MODIFIED:20250829T235613Z
UID:10009183-1757336400-1757343600@issbc.org
SUMMARY:Understanding & Navigating the Labour Market - BC NSP & Safe Haven Programs - Online
DESCRIPTION:Want to better understand BC’s job market\, identify in-demand skills\, and learn how to position yourself for success?Join our workshop designed to give you insights into labour market trends\, employer expectations\, and the strategies you need to find and secure meaningful employment in today’s evolving workforce. \n\nThis session will guide you through exploring career opportunities\, adapting to changing industries\, and building the skills that employers are looking for. \n\nIn this session\, you’ll learn how to:• Understand current labour market trends in BC• Identify industries with high demand for workers• Find and apply for jobs effectively in a competitive market• Adapt to changes in the workforce\, including technology and automation• Access labour market information and community resources• Develop strategies to future-proof your career \n\nJoin us to gain a clear picture of the labour market\, explore in-demand career paths\, and build the tools you need to succeed. \n\nWe’re here to help you understand today’s job market and take confident steps toward your career goals.
URL:https://issbc.org/event/interview-skills-informational-interviews-workshop-bc-nsp-safe-haven-programs-online-7/
CATEGORIES:Find Work
ATTACH;FMTTYPE=image/jpeg:https://issbc.org/wp-content/uploads/2025/08/Navigating-Labour-Market-scaled.jpg
END:VEVENT
BEGIN:VEVENT
DTSTART;TZID=America/Vancouver:20250926T130000
DTEND;TZID=America/Vancouver:20250926T150000
DTSTAMP:20260422T120023
CREATED:20250829T235714Z
LAST-MODIFIED:20250829T235715Z
UID:10009184-1758891600-1758898800@issbc.org
SUMMARY:Understanding & Navigating the Labour Market - BC NSP & Safe Haven Programs - Online
DESCRIPTION:Want to better understand BC’s job market\, identify in-demand skills\, and learn how to position yourself for success?Join our workshop designed to give you insights into labour market trends\, employer expectations\, and the strategies you need to find and secure meaningful employment in today’s evolving workforce. \n\nThis session will guide you through exploring career opportunities\, adapting to changing industries\, and building the skills that employers are looking for. \n\nIn this session\, you’ll learn how to:• Understand current labour market trends in BC• Identify industries with high demand for workers• Find and apply for jobs effectively in a competitive market• Adapt to changes in the workforce\, including technology and automation• Access labour market information and community resources• Develop strategies to future-proof your career \n\nJoin us to gain a clear picture of the labour market\, explore in-demand career paths\, and build the tools you need to succeed. \n\nWe’re here to help you understand today’s job market and take confident steps toward your career goals.
URL:https://issbc.org/event/understanding-navigating-the-labour-market-bc-nsp-safe-haven-programs-online/
CATEGORIES:Find Work
ATTACH;FMTTYPE=image/jpeg:https://issbc.org/wp-content/uploads/2025/08/Navigating-Labour-Market-scaled.jpg
END:VEVENT
END:VCALENDAR