BEGIN:VCALENDAR
VERSION:2.0
PRODID:-//Immigrant Services Society of BC (ISSofBC) - ECPv6.15.20//NONSGML v1.0//EN
CALSCALE:GREGORIAN
METHOD:PUBLISH
X-WR-CALNAME:Immigrant Services Society of BC (ISSofBC)
X-ORIGINAL-URL:https://issbc.org
X-WR-CALDESC:Events for Immigrant Services Society of BC (ISSofBC)
REFRESH-INTERVAL;VALUE=DURATION:PT1H
X-Robots-Tag:noindex
X-PUBLISHED-TTL:PT1H
BEGIN:VTIMEZONE
TZID:America/Vancouver
BEGIN:DAYLIGHT
TZOFFSETFROM:-0800
TZOFFSETTO:-0700
TZNAME:PDT
DTSTART:20250309T100000
END:DAYLIGHT
BEGIN:STANDARD
TZOFFSETFROM:-0700
TZOFFSETTO:-0800
TZNAME:PST
DTSTART:20251102T090000
END:STANDARD
BEGIN:DAYLIGHT
TZOFFSETFROM:-0800
TZOFFSETTO:-0700
TZNAME:PDT
DTSTART:20260308T100000
END:DAYLIGHT
BEGIN:STANDARD
TZOFFSETFROM:-0700
TZOFFSETTO:-0800
TZNAME:PST
DTSTART:20261101T090000
END:STANDARD
BEGIN:DAYLIGHT
TZOFFSETFROM:-0800
TZOFFSETTO:-0700
TZNAME:PDT
DTSTART:20270314T100000
END:DAYLIGHT
BEGIN:STANDARD
TZOFFSETFROM:-0700
TZOFFSETTO:-0800
TZNAME:PST
DTSTART:20271107T090000
END:STANDARD
END:VTIMEZONE
BEGIN:VEVENT
DTSTART;TZID=America/Vancouver:20260420T120000
DTEND;TZID=America/Vancouver:20260420T130000
DTSTAMP:20260424T013415
CREATED:20260326T174550Z
LAST-MODIFIED:20260326T174552Z
UID:10012192-1776686400-1776690000@issbc.org
SUMMARY:Soft Skills in the Workplace| Free Webinar - Global Talent Loans Program-Online
DESCRIPTION:. \n\n\n			\n\n\nDiscover how to understand andmanage your emotions\, tune intoothers’ feelings\, and support thosearound you effectively.
URL:https://issbc.org/event/soft-skills-in-the-workplace/
LOCATION:2610 Victoria Drive\, 2610 Victoria Drive\, Vancouver\, British Columbia\, V5N 4L2
CATEGORIES:Find Work
ATTACH;FMTTYPE=image/jpeg:https://issbc.org/wp-content/uploads/2026/03/LCC_22-1.jpg
END:VEVENT
BEGIN:VEVENT
DTSTART;TZID=America/Vancouver:20260420T130000
DTEND;TZID=America/Vancouver:20260420T133000
DTSTAMP:20260424T013415
CREATED:20260402T165834Z
LAST-MODIFIED:20260402T165836Z
UID:10012415-1776690000-1776691800@issbc.org
SUMMARY:Solid Start 360 Employment Program - Info Session\, Online
DESCRIPTION:Ready to Work in British Columbia \n\nAre you a newcomer looking to start your career in BC? Our free employment program offers personalized support to help you succeed in the local labour market. Benefit from one-on-one job search coaching\, group workshops (in-person\, online\, or self-paced)\, resume and interview guidance\, and access to job postings and employer referrals. Connect with employers through job fairs and mentoring events\, and gain experience through career-relevant volunteering. \n\nJoin an Info Session to learn more about how we can support your job search journey. \n\nWhere : \n\nOnline session via ZOOM \n\n\n\n\n\nEligibility \n\n❑ Permanent Resident \n\n❑ Protected Persons (as defined by IRPA) \n\n❑ Individuals selected for PR (with IRCC letter) \n\n❑ Living in British Columbia in Vancouver\, New Westminster\, Coquitlam\, Port Coquitlam\, Port Moody\, Maple Ridge\, and Pitt Meadows
URL:https://issbc.org/event/solid-start-360-employment-program-info-session-online-16/2026-04-20/
CATEGORIES:Find Work
ATTACH;FMTTYPE=image/jpeg:https://issbc.org/wp-content/uploads/2025/08/JobQuest_CareerFair_August21_Jobseeker2.jpg
END:VEVENT
END:VCALENDAR