BEGIN:VCALENDAR
VERSION:2.0
PRODID:-//Immigrant Services Society of BC (ISSofBC) - ECPv6.15.20//NONSGML v1.0//EN
CALSCALE:GREGORIAN
METHOD:PUBLISH
X-ORIGINAL-URL:https://issbc.org
X-WR-CALDESC:Events for Immigrant Services Society of BC (ISSofBC)
REFRESH-INTERVAL;VALUE=DURATION:PT1H
X-Robots-Tag:noindex
X-PUBLISHED-TTL:PT1H
BEGIN:VTIMEZONE
TZID:America/Vancouver
BEGIN:DAYLIGHT
TZOFFSETFROM:-0800
TZOFFSETTO:-0700
TZNAME:PDT
DTSTART:20240310T100000
END:DAYLIGHT
BEGIN:STANDARD
TZOFFSETFROM:-0700
TZOFFSETTO:-0800
TZNAME:PST
DTSTART:20241103T090000
END:STANDARD
BEGIN:DAYLIGHT
TZOFFSETFROM:-0800
TZOFFSETTO:-0700
TZNAME:PDT
DTSTART:20250309T100000
END:DAYLIGHT
BEGIN:STANDARD
TZOFFSETFROM:-0700
TZOFFSETTO:-0800
TZNAME:PST
DTSTART:20251102T090000
END:STANDARD
BEGIN:DAYLIGHT
TZOFFSETFROM:-0800
TZOFFSETTO:-0700
TZNAME:PDT
DTSTART:20260308T100000
END:DAYLIGHT
BEGIN:STANDARD
TZOFFSETFROM:-0700
TZOFFSETTO:-0800
TZNAME:PST
DTSTART:20261101T090000
END:STANDARD
END:VTIMEZONE
BEGIN:VEVENT
DTSTART;TZID=America/Vancouver:20251209T173000
DTEND;TZID=America/Vancouver:20251209T190000
DTSTAMP:20260420T002754
CREATED:20251204T191849Z
LAST-MODIFIED:20251204T191850Z
UID:10011131-1765301400-1765306800@issbc.org
SUMMARY:Know Your Rights: Employment Standards\, Sexual Harassment\, and Human Rights in BC | Free Webinar - Global Talent Loans Program - Online
DESCRIPTION:Join us for a workshop that will help you understand your rights as an employee in British Columbia. This session is created to empower you with practical knowledge\, whether you are just starting your career or looking to stay informed. \n\nWhat You’ll Learn: \n\n-Overtime and statutory holiday entitlement.-Legal remedies available to individuals who have experienced workplace sexual harassment.-An overview of human rights legislation in BC.-And more! \n\nThis workshop is open to the public and free to attend. Space is limited\, so register today! \n\nWe look forward to seeing you there!
URL:https://issbc.org/event/know-your-rights-bc-employment-law-free-webinar-global-talent-loans-program-online/
LOCATION:Online via Zoom
CATEGORIES:Find Work
ATTACH;FMTTYPE=image/jpeg:https://issbc.org/wp-content/uploads/2025/12/Know-Your-Rights-Webinar-Poster-1-1.jpg
END:VEVENT
END:VCALENDAR