BEGIN:VCALENDAR
VERSION:2.0
PRODID:-//Immigrant Services Society of BC (ISSofBC) - ECPv6.15.20//NONSGML v1.0//EN
CALSCALE:GREGORIAN
METHOD:PUBLISH
X-ORIGINAL-URL:https://issbc.org
X-WR-CALDESC:Events for Immigrant Services Society of BC (ISSofBC)
REFRESH-INTERVAL;VALUE=DURATION:PT1H
X-Robots-Tag:noindex
X-PUBLISHED-TTL:PT1H
BEGIN:VTIMEZONE
TZID:America/Vancouver
BEGIN:DAYLIGHT
TZOFFSETFROM:-0800
TZOFFSETTO:-0700
TZNAME:PDT
DTSTART:20240310T100000
END:DAYLIGHT
BEGIN:STANDARD
TZOFFSETFROM:-0700
TZOFFSETTO:-0800
TZNAME:PST
DTSTART:20241103T090000
END:STANDARD
BEGIN:DAYLIGHT
TZOFFSETFROM:-0800
TZOFFSETTO:-0700
TZNAME:PDT
DTSTART:20250309T100000
END:DAYLIGHT
BEGIN:STANDARD
TZOFFSETFROM:-0700
TZOFFSETTO:-0800
TZNAME:PST
DTSTART:20251102T090000
END:STANDARD
BEGIN:DAYLIGHT
TZOFFSETFROM:-0800
TZOFFSETTO:-0700
TZNAME:PDT
DTSTART:20260308T100000
END:DAYLIGHT
BEGIN:STANDARD
TZOFFSETFROM:-0700
TZOFFSETTO:-0800
TZNAME:PST
DTSTART:20261101T090000
END:STANDARD
END:VTIMEZONE
BEGIN:VEVENT
DTSTART;TZID=America/Vancouver:20250902T120000
DTEND;TZID=America/Vancouver:20250902T130000
DTSTAMP:20260423T171431
CREATED:20250825T222519Z
LAST-MODIFIED:20250825T222520Z
UID:10009114-1756814400-1756818000@issbc.org
SUMMARY:Soft Skills at the Workplace - Global Talent Loans Program - Online
DESCRIPTION:Want to improve your workplace communication and teamwork? Join our Soft Skills in the Workplace webinar. \n\nWhat you’ll learn:✨ Understand and manage your emotions✨ Tune into others’ feelings✨ Support colleagues in navigating theirs \n\nDon’t miss this chance to strengthen your soft skills and make a positive impact at work! \n\nTake the first step toward an exciting teaching journey. We hope to see you there!
URL:https://issbc.org/event/soft-skills-at-the-workplace-global-talent-loans-program-online/
LOCATION:Online via Zoom
CATEGORIES:Find Work
ATTACH;FMTTYPE=image/jpeg:https://issbc.org/wp-content/uploads/2025/08/1-student-professional-conversation-education-team-students-1078565-pxhere.com-1-scaled.jpg
END:VEVENT
END:VCALENDAR