BEGIN:VCALENDAR
VERSION:2.0
PRODID:-//Immigrant Services Society of BC (ISSofBC) - ECPv6.15.20//NONSGML v1.0//EN
CALSCALE:GREGORIAN
METHOD:PUBLISH
X-WR-CALNAME:Immigrant Services Society of BC (ISSofBC)
X-ORIGINAL-URL:https://issbc.org
X-WR-CALDESC:Events for Immigrant Services Society of BC (ISSofBC)
REFRESH-INTERVAL;VALUE=DURATION:PT1H
X-Robots-Tag:noindex
X-PUBLISHED-TTL:PT1H
BEGIN:VTIMEZONE
TZID:America/Vancouver
BEGIN:DAYLIGHT
TZOFFSETFROM:-0800
TZOFFSETTO:-0700
TZNAME:PDT
DTSTART:20240310T100000
END:DAYLIGHT
BEGIN:STANDARD
TZOFFSETFROM:-0700
TZOFFSETTO:-0800
TZNAME:PST
DTSTART:20241103T090000
END:STANDARD
BEGIN:DAYLIGHT
TZOFFSETFROM:-0800
TZOFFSETTO:-0700
TZNAME:PDT
DTSTART:20250309T100000
END:DAYLIGHT
BEGIN:STANDARD
TZOFFSETFROM:-0700
TZOFFSETTO:-0800
TZNAME:PST
DTSTART:20251102T090000
END:STANDARD
BEGIN:DAYLIGHT
TZOFFSETFROM:-0800
TZOFFSETTO:-0700
TZNAME:PDT
DTSTART:20260308T100000
END:DAYLIGHT
BEGIN:STANDARD
TZOFFSETFROM:-0700
TZOFFSETTO:-0800
TZNAME:PST
DTSTART:20261101T090000
END:STANDARD
END:VTIMEZONE
BEGIN:VEVENT
DTSTART;TZID=America/Vancouver:20250903T130000
DTEND;TZID=America/Vancouver:20250903T150000
DTSTAMP:20260423T041133
CREATED:20250820T222235Z
LAST-MODIFIED:20250820T222236Z
UID:10008919-1756904400-1756911600@issbc.org
SUMMARY:Resume & Cover Letter Writing Workshop - BC NSP & Safe Haven Program - Online
DESCRIPTION:Looking to improve your resume and cover letter? \n\nJoin our Resume & Cover Letter Workshop and gain practical tools\, expert tips\, and personalized guidance to strengthen your job applications and boost your chances of success in the BC job market. \n\nThis session will walk you through the essentials of writing clear\, effective\, and professional documents that reflect your skills and experience. \n\nIn this session\, you’ll learn how to: \n\n\n	Create a Canadian-style resume tailored to your career goals\n\n	Write compelling cover letters that showcase your strengths\n\n	Avoid common mistakes that hurt your chances\n\n	Use keywords to get noticed by employers and resume scanners\n\n	Customize your applications for different job postings\n\n	Know where to find free templates\, resources\, digital tools\, and 1-on-1 support
URL:https://issbc.org/event/resume-cover-letter-writing-workshop-bc-nsp-safe-haven-program-online-4/
CATEGORIES:Find Work
ATTACH;FMTTYPE=image/jpeg:https://issbc.org/wp-content/uploads/2025/06/Resume.jpg
END:VEVENT
BEGIN:VEVENT
DTSTART;TZID=America/Vancouver:20250922T130000
DTEND;TZID=America/Vancouver:20250922T150000
DTSTAMP:20260423T041133
CREATED:20250820T224259Z
LAST-MODIFIED:20250820T224300Z
UID:10008921-1758546000-1758553200@issbc.org
SUMMARY:Resume & Cover Letter Writing Workshop - BC NSP & Safe Haven Program - Online
DESCRIPTION:Looking to improve your resume and cover letter? \n\nJoin our Resume & Cover Letter Workshop and gain practical tools\, expert tips\, and personalized guidance to strengthen your job applications and boost your chances of success in the BC job market. \n\nThis session will walk you through the essentials of writing clear\, effective\, and professional documents that reflect your skills and experience. \n\nIn this session\, you’ll learn how to: \n\n\n	Create a Canadian-style resume tailored to your career goals\n\n	Write compelling cover letters that showcase your strengths\n\n	Avoid common mistakes that hurt your chances\n\n	Use keywords to get noticed by employers and resume scanners\n\n	Customize your applications for different job postings\n\n	Know where to find free templates\, resources\, digital tools\, and 1-on-1 support
URL:https://issbc.org/event/resume-cover-letter-writing-workshop-bc-nsp-safe-haven-program-online-5/
CATEGORIES:Find Work
ATTACH;FMTTYPE=image/jpeg:https://issbc.org/wp-content/uploads/2025/06/Resume.jpg
END:VEVENT
END:VCALENDAR