BEGIN:VCALENDAR
VERSION:2.0
PRODID:-//Immigrant Services Society of BC (ISSofBC) - ECPv6.15.20//NONSGML v1.0//EN
CALSCALE:GREGORIAN
METHOD:PUBLISH
X-WR-CALNAME:Immigrant Services Society of BC (ISSofBC)
X-ORIGINAL-URL:https://issbc.org
X-WR-CALDESC:Events for Immigrant Services Society of BC (ISSofBC)
REFRESH-INTERVAL;VALUE=DURATION:PT1H
X-Robots-Tag:noindex
X-PUBLISHED-TTL:PT1H
BEGIN:VTIMEZONE
TZID:America/Vancouver
BEGIN:DAYLIGHT
TZOFFSETFROM:-0800
TZOFFSETTO:-0700
TZNAME:PDT
DTSTART:20250309T100000
END:DAYLIGHT
BEGIN:STANDARD
TZOFFSETFROM:-0700
TZOFFSETTO:-0800
TZNAME:PST
DTSTART:20251102T090000
END:STANDARD
BEGIN:DAYLIGHT
TZOFFSETFROM:-0800
TZOFFSETTO:-0700
TZNAME:PDT
DTSTART:20260308T100000
END:DAYLIGHT
BEGIN:STANDARD
TZOFFSETFROM:-0700
TZOFFSETTO:-0800
TZNAME:PST
DTSTART:20261101T090000
END:STANDARD
BEGIN:DAYLIGHT
TZOFFSETFROM:-0800
TZOFFSETTO:-0700
TZNAME:PDT
DTSTART:20270314T100000
END:DAYLIGHT
BEGIN:STANDARD
TZOFFSETFROM:-0700
TZOFFSETTO:-0800
TZNAME:PST
DTSTART:20271107T090000
END:STANDARD
END:VTIMEZONE
BEGIN:VEVENT
DTSTART;TZID=America/Vancouver:20260119T120000
DTEND;TZID=America/Vancouver:20260119T130000
DTSTAMP:20260419T173358
CREATED:20260108T214803Z
LAST-MODIFIED:20260108T214805Z
UID:10011377-1768824000-1768827600@issbc.org
SUMMARY:Soft Skills in the Workplace | Free Webinar - Global Talent Loans Program - Online
DESCRIPTION:This session focuses on building strong communication\, emotional intelligence\, and collaboration skills for today’s workplace. \n\nYou will learn how to: \n\n• Manage emotions effectively at work• Communicate with empathy• Support colleagues and contribute to a positive work culture
URL:https://issbc.org/event/soft-skills-in-the-workplace-free-webinar-global-talent-loans-program-online-2/
LOCATION:Online via Zoom
CATEGORIES:Find Work
ATTACH;FMTTYPE=image/jpeg:https://issbc.org/wp-content/uploads/2026/01/CareerFair-18-1.jpg
END:VEVENT
END:VCALENDAR